BEGIN:VCALENDAR
VERSION:2.0
PRODID:-//Tehpro - ECPv6.15.20//NONSGML v1.0//EN
CALSCALE:GREGORIAN
METHOD:PUBLISH
X-ORIGINAL-URL:https://tehpro.rs
X-WR-CALDESC:Events for Tehpro
REFRESH-INTERVAL;VALUE=DURATION:PT1H
X-Robots-Tag:noindex
X-PUBLISHED-TTL:PT1H
BEGIN:VTIMEZONE
TZID:Europe/Belgrade
BEGIN:DAYLIGHT
TZOFFSETFROM:+0100
TZOFFSETTO:+0200
TZNAME:CEST
DTSTART:20210328T010000
END:DAYLIGHT
BEGIN:STANDARD
TZOFFSETFROM:+0200
TZOFFSETTO:+0100
TZNAME:CET
DTSTART:20211031T010000
END:STANDARD
BEGIN:DAYLIGHT
TZOFFSETFROM:+0100
TZOFFSETTO:+0200
TZNAME:CEST
DTSTART:20220327T010000
END:DAYLIGHT
BEGIN:STANDARD
TZOFFSETFROM:+0200
TZOFFSETTO:+0100
TZNAME:CET
DTSTART:20221030T010000
END:STANDARD
BEGIN:DAYLIGHT
TZOFFSETFROM:+0100
TZOFFSETTO:+0200
TZNAME:CEST
DTSTART:20230326T010000
END:DAYLIGHT
BEGIN:STANDARD
TZOFFSETFROM:+0200
TZOFFSETTO:+0100
TZNAME:CET
DTSTART:20231029T010000
END:STANDARD
END:VTIMEZONE
BEGIN:VEVENT
DTSTART;TZID=Europe/Belgrade:20220621T090000
DTEND;TZID=Europe/Belgrade:20220621T160000
DTSTAMP:20260423T103214
CREATED:20220729T205401Z
LAST-MODIFIED:20220807T132306Z
UID:11413-1655802000-1655827200@tehpro.rs
SUMMARY:EDUCATION IN THE FIELD OF ENVIRONMENTAL PROTECTION
DESCRIPTION:With a goal of making your business be in harmonized with current regulations in area of environmental protection\, we are inviting you to a training: \nDuties and responsibilities in practice for Professional person for environmental protection \nDate: 21.06.2022. from 09h to 16h \nLocation: Hotel Šumadija\, Šumadijski Trg 8\, hall „Kalemegdan“\, Beograd \nIn the moment when Serbia is preparing to open chapter 27 with a goal of joining EU\, we\, as companies\, and as individuals\, have common goal of protecting the environment. \nThe field of environmental protection is currently regulated by over 100 legal acts. \nEven if with current legislative is not defined obligation for companies to appoint a person for environmental protection\, but practice shows that responsible companies do exactly that. Obligations of person for environmental protection are to monitor changes in regulations and make company’s activities in compliant with them. \nFinishing this training you will learn what are the obligations of companies\, in terms of emissions in air\, emissions in water\, both\, on surface and underground\, noise\, non-ionizing radiation\, generating waste and how all that looks in practice. \nGoal: Responsible management of the company’s natural resources and harmonization of operations with the current Regulation in the field of environmental protection. \nAPPLY: TEHPRO d.o.o.\, Lole Ribara 120\, 11250 Beograd – Železnik / Contact: Dragana Rašić; 062/8081-483; e-mail: dragana.rasic@tehpro.rs
URL:https://tehpro.rs/event/education-in-the-field-of-environmental-protection/
LOCATION:Hotel Sumadija\, Belgrade
CATEGORIES:English
END:VEVENT
END:VCALENDAR