BEGIN:VCALENDAR
VERSION:2.0
PRODID:-//Tehpro - ECPv6.15.20//NONSGML v1.0//EN
CALSCALE:GREGORIAN
METHOD:PUBLISH
X-ORIGINAL-URL:https://tehpro.rs
X-WR-CALDESC:Events for Tehpro
REFRESH-INTERVAL;VALUE=DURATION:PT1H
X-Robots-Tag:noindex
X-PUBLISHED-TTL:PT1H
BEGIN:VTIMEZONE
TZID:Europe/Belgrade
BEGIN:DAYLIGHT
TZOFFSETFROM:+0100
TZOFFSETTO:+0200
TZNAME:CEST
DTSTART:20210328T010000
END:DAYLIGHT
BEGIN:STANDARD
TZOFFSETFROM:+0200
TZOFFSETTO:+0100
TZNAME:CET
DTSTART:20211031T010000
END:STANDARD
BEGIN:DAYLIGHT
TZOFFSETFROM:+0100
TZOFFSETTO:+0200
TZNAME:CEST
DTSTART:20220327T010000
END:DAYLIGHT
BEGIN:STANDARD
TZOFFSETFROM:+0200
TZOFFSETTO:+0100
TZNAME:CET
DTSTART:20221030T010000
END:STANDARD
BEGIN:DAYLIGHT
TZOFFSETFROM:+0100
TZOFFSETTO:+0200
TZNAME:CEST
DTSTART:20230326T010000
END:DAYLIGHT
BEGIN:STANDARD
TZOFFSETFROM:+0200
TZOFFSETTO:+0100
TZNAME:CET
DTSTART:20231029T010000
END:STANDARD
END:VTIMEZONE
BEGIN:VEVENT
DTSTART;TZID=Europe/Belgrade:20221024T090000
DTEND;TZID=Europe/Belgrade:20221024T160000
DTSTAMP:20260423T035915
CREATED:20221003T090857Z
LAST-MODIFIED:20221003T090857Z
UID:12058-1666602000-1666627200@tehpro.rs
SUMMARY:PREPARATORY COURSE - FIRE PROTECTION
DESCRIPTION:Subject: Preparatory course for taking the vocational exam \nFrom 24. 10.2022.\n09.00h – 16.00h \nAll persons who perform fire protection work must submit an expert exam in fire protection before the commission of the Ministry of Internal Affairs of the Republic of Serbia. The requirement for exams is mandatory preparatory course according to the programme defined by the appointed minister.\nCompany „TEHPRO“ d.o.o. has extensive experience in organizing special forms of education in the field of fire protection\, occupational health and safety and environmental protection. The experience and competences of all our educators guarantee the quality of work and high percentage of candidates passing the exam. \nWay of realization\nThe program\, contains 180 teaching hours\, is implemented with a dynamic that is consistent with the structure and capabilities of the participants through the appropriate forms of teaching work and content. \nAPPLICATION:\nTEHPRO d.o.o.\, Lole Ribara 120\, 11250 Belgrade – Železnik\nContact: Dragana Rašić; 062/8081-483; E-mail: dragana.rasic@tehpro.rs
URL:https://tehpro.rs/event/preparatory-course-fire-protection/
CATEGORIES:English
END:VEVENT
END:VCALENDAR