BEGIN:VCALENDAR
VERSION:2.0
PRODID:-//Tehpro - ECPv6.15.20//NONSGML v1.0//EN
CALSCALE:GREGORIAN
METHOD:PUBLISH
X-WR-CALNAME:Tehpro
X-ORIGINAL-URL:https://tehpro.rs
X-WR-CALDESC:Events for Tehpro
REFRESH-INTERVAL;VALUE=DURATION:PT1H
X-Robots-Tag:noindex
X-PUBLISHED-TTL:PT1H
BEGIN:VTIMEZONE
TZID:Europe/Belgrade
BEGIN:DAYLIGHT
TZOFFSETFROM:+0100
TZOFFSETTO:+0200
TZNAME:CEST
DTSTART:20210328T010000
END:DAYLIGHT
BEGIN:STANDARD
TZOFFSETFROM:+0200
TZOFFSETTO:+0100
TZNAME:CET
DTSTART:20211031T010000
END:STANDARD
BEGIN:DAYLIGHT
TZOFFSETFROM:+0100
TZOFFSETTO:+0200
TZNAME:CEST
DTSTART:20220327T010000
END:DAYLIGHT
BEGIN:STANDARD
TZOFFSETFROM:+0200
TZOFFSETTO:+0100
TZNAME:CET
DTSTART:20221030T010000
END:STANDARD
BEGIN:DAYLIGHT
TZOFFSETFROM:+0100
TZOFFSETTO:+0200
TZNAME:CEST
DTSTART:20230326T010000
END:DAYLIGHT
BEGIN:STANDARD
TZOFFSETFROM:+0200
TZOFFSETTO:+0100
TZNAME:CET
DTSTART:20231029T010000
END:STANDARD
END:VTIMEZONE
BEGIN:VEVENT
DTSTART;TZID=Europe/Belgrade:20221213T100000
DTEND;TZID=Europe/Belgrade:20221213T130000
DTSTAMP:20260423T002037
CREATED:20221116T164737Z
LAST-MODIFIED:20221116T164744Z
UID:12127-1670925600-1670936400@tehpro.rs
SUMMARY:WORKSHOP IN THE FIELD OF QUALITY MANAGEMENT
DESCRIPTION:Workshop in the field of quality management \nSUBJECT:\nImplementation of management systems in company: Occupational health and safety management according to ISO 45001:2018 \nLOCATION\nTEHPRO\, Lole Ribara 120\, 11250 Beograd \nWe invite you to join us on a workshop where the requirements of ISO 45001:2018 will be discussed as well as practical aspects of the implementation of management systems in companies. \nWhy this topic? ISO 45001 is a global standard for occupational health and safety management systems that guides you to practical solutions to improve health and safety of employees. This standard is designed with the intention of being applicable to any company regardless of its size\, type and nature. Implementing ISO 45001 demonstrates your organization’s commitment to providing a workplace that eliminates or minimizes the risk of illness or injury to your workers\, community or customers. \nWhy choose „Techpro“? Because we don’t retell standard requirements and regulations\, we teach you how to apply them yourself. \nThe aim of the workshop: to improve the competence of participants for the implementation of ISO 45001:2018 requirements\, risk management and managing required documentation. \nMethod of implementation: Experts from „Tehpro“ d.o.o. will present introductory presentations by topic\, as well as examples of good and / or bad practice. After that\, an example of proper documentation will be presented. \nTarget groups: OHS\, FP and EHS experts\, quality engineers\, managers\, auditors and all those involved in the implementation of management systems. \nThe lecturers are experts in the implementation of the quality management system\, external auditors of the management system\, with many years of experience in managing OHS business. \nAPPLICATION \nContact: Dragana Rašić; 062/8081-483; e-mail: dragana.rasic@tehpro.rs.
URL:https://tehpro.rs/event/workshop-in-the-field-of-quality-management/
CATEGORIES:English
END:VEVENT
BEGIN:VEVENT
DTSTART;TZID=Europe/Belgrade:20221219T090000
DTEND;TZID=Europe/Belgrade:20221224T160000
DTSTAMP:20260423T002037
CREATED:20221114T122355Z
LAST-MODIFIED:20221212T162737Z
UID:12111-1671440400-1671897600@tehpro.rs
SUMMARY:PREPARATORY COURSE OCCUPATIONAL HEALTH AND SAFETY
DESCRIPTION:With the experience of over 30 years in this field\, we successfully prepared over 3000 participants\, whom then after passed the professional exam in the Ministry of Labor\, with ease. \nSince 2016\, we have been teaching this course as publicly accepted organization for adult education\, according to the program for adult education – training for preparing the candidates to perform OHS expert’s tasks. This program is accredited by the Ministry of Education\, Science and Technological Development\, as well as Qualifications Agency. After the course we issue a certificate of successful course completion. \nThe course is realized by our expert team\, which comprised of trainers with vast experience in the field of health and safety at work. This course is completely adjusted to the needs of participants so they can easily comprehend and deal with this subject. \nMethod of implementation:\nThis course lasts for 6 days. \nWe invite you to join us on this course and prepare yourselves to perform tasks in the field of health and safety at work. \nENROLMENT:\nDragana Rašić\, 062/8081-483; e-mail: dragana.rasic@tehpro.rs
URL:https://tehpro.rs/event/preparatory-course-occupational-health-and-safety-belgrade/
LOCATION:Tehpro\, Lole Ribara 120\, Belgrade\, 11250
CATEGORIES:English
END:VEVENT
END:VCALENDAR