BEGIN:VCALENDAR
VERSION:2.0
PRODID:-//Tehpro - ECPv6.15.20//NONSGML v1.0//EN
CALSCALE:GREGORIAN
METHOD:PUBLISH
X-ORIGINAL-URL:https://tehpro.rs
X-WR-CALDESC:Events for Tehpro
REFRESH-INTERVAL;VALUE=DURATION:PT1H
X-Robots-Tag:noindex
X-PUBLISHED-TTL:PT1H
BEGIN:VTIMEZONE
TZID:Europe/Belgrade
BEGIN:DAYLIGHT
TZOFFSETFROM:+0100
TZOFFSETTO:+0200
TZNAME:CEST
DTSTART:20220327T010000
END:DAYLIGHT
BEGIN:STANDARD
TZOFFSETFROM:+0200
TZOFFSETTO:+0100
TZNAME:CET
DTSTART:20221030T010000
END:STANDARD
BEGIN:DAYLIGHT
TZOFFSETFROM:+0100
TZOFFSETTO:+0200
TZNAME:CEST
DTSTART:20230326T010000
END:DAYLIGHT
BEGIN:STANDARD
TZOFFSETFROM:+0200
TZOFFSETTO:+0100
TZNAME:CET
DTSTART:20231029T010000
END:STANDARD
BEGIN:DAYLIGHT
TZOFFSETFROM:+0100
TZOFFSETTO:+0200
TZNAME:CEST
DTSTART:20240331T010000
END:DAYLIGHT
BEGIN:STANDARD
TZOFFSETFROM:+0200
TZOFFSETTO:+0100
TZNAME:CET
DTSTART:20241027T010000
END:STANDARD
END:VTIMEZONE
BEGIN:VEVENT
DTSTART;TZID=Europe/Belgrade:20230303T100000
DTEND;TZID=Europe/Belgrade:20230303T170000
DTSTAMP:20260422T191346
CREATED:20230124T134920Z
LAST-MODIFIED:20230124T134953Z
UID:12258-1677837600-1677862800@tehpro.rs
SUMMARY:Occupational health and safety in mining - PROFESSIONAL CONFERENCE
DESCRIPTION:Ensuring safe and healthy working conditions in the mining industry is a particular challenge for mining engineers and all other experts in this field. \nAll of the problems and dilemmas of OHS system in the Republic of Serbia are particularly reflected in the organizing preventive measures for protection of miners. \nTherefore\, Tehpro\, as a regional leader\, in the field of health and safety at work\, is organizing this expert disscution\, where all important issues of organizing OHS activities in mining\, will be discussed. \nFollowing the opening talks of Tehpro representatives and invited experts\, an open discussion will be held. \nNew book published by Tehpro will be presented at the conference: \nManual on occupational health and safety in mining \nWith the support of sponsors \n \nApplication for participation:\nContact: Dragana Rašić\ntel: +381 62 8081 483 / e-mail: dragana.rasic@tehpro.rs \nTHROUGH EDUCATION TO THE RIGHT VALUES!
URL:https://tehpro.rs/event/occupational-health-and-safety-in-mining-professional-conference/
LOCATION:In Hotel\, Bul. Arsenija Čarnojevića 56\, Belgrade\, 11070
CATEGORIES:English
END:VEVENT
BEGIN:VEVENT
DTSTART;TZID=Europe/Belgrade:20230313T090000
DTEND;TZID=Europe/Belgrade:20230313T160000
DTSTAMP:20260422T191346
CREATED:20230207T161853Z
LAST-MODIFIED:20230207T161941Z
UID:12283-1678698000-1678723200@tehpro.rs
SUMMARY:PREPARATORY COURSE FIRE PROTECTION
DESCRIPTION:Preparatory course Fire Protection \nLaw\nAll persons who perform fire protection related activities must pass the professional exam\, which is done at the Ministry of Internal Affairs of the Republic of Serbia. In order to enroll for the exam candidate must go through mandatory preparatory classes according to the program defined by the appointed minister. \nAbout Tehpro\nCompany „TEHPRO“ d.o.o. has extensive experience in organizing special forms of education in the field of fire protection\, occupational health and safety and environmental protection. The experience and competences of all our educators guarantee the quality of work and high percentage of candidates passing the exam. \nMethod of realization:\nThe program\, contains 180 teaching hours\, is implemented with a dynamic that is consistent with the structure and capabilities of the participants through the appropriate forms of teaching work and content. \nWe don’t follow regulations. With us you will get the best preparation for the exam\, but also learn how to practice professional JOP tasks. \nTOGETHER BY EDUCATING TO THE RIGHT VALUES! \nFOR MORE INFORMATION\, CALL\,\n+381 62 8081 483 \nAPPLY:\nContact: Dragana Rašić\ne-mail: dragana.rasic@tehpro.rs
URL:https://tehpro.rs/event/preparatory-course-fire-protection-2/
LOCATION:Tehpro\, Lole Ribara 120\, Belgrade\, 11250
CATEGORIES:English
END:VEVENT
BEGIN:VEVENT
DTSTART;TZID=Europe/Belgrade:20230328T090000
DTEND;TZID=Europe/Belgrade:20230331T160000
DTSTAMP:20260422T191346
CREATED:20230328T091058Z
LAST-MODIFIED:20230328T091058Z
UID:12354-1679994000-1680278400@tehpro.rs
SUMMARY:TRAINING FOR OBTAINING THE LICENSE FOR MAKING RISK ASSESSMENT FROM DISASTER AND RESCUE AND PROTECTION PLAN
DESCRIPTION:Tehpro d.o.o. has been involved in fields of OHS\, FP\, Environmental protection\, and emergency situations for 30 years. We have made hundreds of risk assessments and plans in these areas. Our experts also have extensive teaching experience in adult education\, which is verified by the Decision of the Ministry of Education. For some programs in these areas we received the status of publicly recognized organizer of adult education. \nMethod of realization:\nDuration of the course is 36 hours and is done in accordance with the Rulebook on professional examination for making of disaster risk assessment and protection and rescue plan (Official Gazette of rs\, 20/2019). \nCALL FOR MORE INFORMATION:\n+381 62 8081 483 \nAPPLICATION\nContact: Dragana Rašić\ne-mail: dragana.rasic@tehpro.rs
URL:https://tehpro.rs/event/training-for-obtaining-the-license-for-making-risk-assessment-from-disaster-and-rescue-and-protection-plan/
CATEGORIES:English
END:VEVENT
END:VCALENDAR