BEGIN:VCALENDAR
VERSION:2.0
PRODID:-//Tehpro - ECPv6.15.20//NONSGML v1.0//EN
CALSCALE:GREGORIAN
METHOD:PUBLISH
X-WR-CALNAME:Tehpro
X-ORIGINAL-URL:https://tehpro.rs
X-WR-CALDESC:Events for Tehpro
REFRESH-INTERVAL;VALUE=DURATION:PT1H
X-Robots-Tag:noindex
X-PUBLISHED-TTL:PT1H
BEGIN:VTIMEZONE
TZID:Europe/Belgrade
BEGIN:DAYLIGHT
TZOFFSETFROM:+0100
TZOFFSETTO:+0200
TZNAME:CEST
DTSTART:20220327T010000
END:DAYLIGHT
BEGIN:STANDARD
TZOFFSETFROM:+0200
TZOFFSETTO:+0100
TZNAME:CET
DTSTART:20221030T010000
END:STANDARD
BEGIN:DAYLIGHT
TZOFFSETFROM:+0100
TZOFFSETTO:+0200
TZNAME:CEST
DTSTART:20230326T010000
END:DAYLIGHT
BEGIN:STANDARD
TZOFFSETFROM:+0200
TZOFFSETTO:+0100
TZNAME:CET
DTSTART:20231029T010000
END:STANDARD
BEGIN:DAYLIGHT
TZOFFSETFROM:+0100
TZOFFSETTO:+0200
TZNAME:CEST
DTSTART:20240331T010000
END:DAYLIGHT
BEGIN:STANDARD
TZOFFSETFROM:+0200
TZOFFSETTO:+0100
TZNAME:CET
DTSTART:20241027T010000
END:STANDARD
END:VTIMEZONE
BEGIN:VEVENT
DTSTART;TZID=Europe/Belgrade:20231003T090000
DTEND;TZID=Europe/Belgrade:20231006T160000
DTSTAMP:20260422T065706
CREATED:20230927T104625Z
LAST-MODIFIED:20230927T104625Z
UID:12558-1696323600-1696608000@tehpro.rs
SUMMARY:TRAINING FOR OBTAINING A LICENSE FOR MAKING ASSESSMENTS DISASTER RISK AND PROTECTION AND RESCUE PLAN
DESCRIPTION:TRAINING FOR OBTAINING A LICENSE FOR MAKING ASSESSMENTS DISASTER RISK AND PROTECTION AND RESCUE PLAN \nOnly legal entities that are authorized by the Ministry of internal afairs can organise Training for obtaining the License for making the disaster risk assessment and protection and rescue plan. \nTehpro d.o.o. has been working in the field of OHS\, FP\, environmental protection and emergency situations for more then 30 years. We have done large number of risk assessments and plans in these fields. Our experts also have extensive experience in adult education\, which is verified by the Ministry of Education\, and for some programs in these fields we obtained the status of publicly recognized organizer of adult education activities. \nMethod of realization \nThe training lasts for 32 teaching hours in accordance with the Rulebook on professional exam for making disaster risk assessment and protection and rescue plan (Official Gazette of RS\, 20/2019). \nCALL FOR MORE INFORMATION\n+381 62 8081 483\nAPPLICATION \nContact: Dragana Rašić\ne-mail: dragana.rasic@tehpro.rs
URL:https://tehpro.rs/event/training-for-obtaining-a-license-for-making-assessments-disaster-risk-and-protection-and-rescue-plan/
LOCATION:Tehpro\, Lole Ribara 120\, Belgrade\, 11250
CATEGORIES:English
END:VEVENT
END:VCALENDAR