BEGIN:VCALENDAR
VERSION:2.0
PRODID:-//Tehpro - ECPv6.15.20//NONSGML v1.0//EN
CALSCALE:GREGORIAN
METHOD:PUBLISH
X-ORIGINAL-URL:https://tehpro.rs
X-WR-CALDESC:Events for Tehpro
REFRESH-INTERVAL;VALUE=DURATION:PT1H
X-Robots-Tag:noindex
X-PUBLISHED-TTL:PT1H
BEGIN:VTIMEZONE
TZID:Europe/Belgrade
BEGIN:DAYLIGHT
TZOFFSETFROM:+0100
TZOFFSETTO:+0200
TZNAME:CEST
DTSTART:20230326T010000
END:DAYLIGHT
BEGIN:STANDARD
TZOFFSETFROM:+0200
TZOFFSETTO:+0100
TZNAME:CET
DTSTART:20231029T010000
END:STANDARD
BEGIN:DAYLIGHT
TZOFFSETFROM:+0100
TZOFFSETTO:+0200
TZNAME:CEST
DTSTART:20240331T010000
END:DAYLIGHT
BEGIN:STANDARD
TZOFFSETFROM:+0200
TZOFFSETTO:+0100
TZNAME:CET
DTSTART:20241027T010000
END:STANDARD
BEGIN:DAYLIGHT
TZOFFSETFROM:+0100
TZOFFSETTO:+0200
TZNAME:CEST
DTSTART:20250330T010000
END:DAYLIGHT
BEGIN:STANDARD
TZOFFSETFROM:+0200
TZOFFSETTO:+0100
TZNAME:CET
DTSTART:20251026T010000
END:STANDARD
END:VTIMEZONE
BEGIN:VEVENT
DTSTART;TZID=Europe/Belgrade:20240313T100000
DTEND;TZID=Europe/Belgrade:20240313T140000
DTSTAMP:20260421T212545
CREATED:20240214T112427Z
LAST-MODIFIED:20240214T112427Z
UID:12795-1710324000-1710338400@tehpro.rs
SUMMARY:SEMINAR: HEALTH AND SAFETY AT WORK AND LABOR LAW
DESCRIPTION:Topic: Regulating labor and legal relations and organizing OHS measures for vulnerable categories of employees: young people\, pupils\, persons with disabilities\, maternity protection\, work outside employer’s premises\, assignment to work abroad\, engagement of foreign workers and legal aspects of mobbing \nHealth and safety at work (OHS)\, as an absolute right based on work\, is directly related to other rights from employment and other forms of work engagement that are regulated by labor\, health care\, pension and health insurance laws\, criminal law\, and other laws. This is especially true for the vulnerable categories of employees. \nOHS practice shows that understanding all legal requirements and direct cooperation of OHS advisors/associates\, with legal and HR services at the companies\, is of utmost importance. \nTherefore\, we invite you to join us at the seminar where we are going to discuss above mentioned issues. \nWhy this topic? Because it is extremely important\, and there are several specific problems and dilemmas in practice that can arise. This area is a frequent subject of supervision by labor inspection\, administrative and court disputes. \nWhy choose „Tehpro“? Because we are willing to share our rich experiences with you. \nGoal: improve the competence of participants so you can properly implement law requirements considering these special categories of employees\, as well as improve cooperation with legal department and HR in your organization. \nBasic questions:\n– legal aspects of providing specific OHS preventive measures for those not employed in your organization\, and sensitive categories of employees: young people\, students\, persons with disabilities\, elderly people\, etc.\n– legal and security aspects of organizing work outside the premises of organization\,\n– to send employees to work abroad\,\n– legal and safety aspects of the employing foreign workers\,\n– legal aspects of mobbing in the workplace\,\n– legal consequences of poor regulation of status and non-application of OHS measures in specific situations\,\n– inspection\, initiating and conducting administrative\, misdemeanor\, litigation\, and criminal proceedings\,\n– analysis of examples from the practice of „Tehpro“ related to the non-application of regulations in the OHS field and law on labor (compensation for damage done\, reputational damage\, criminal-legal consequences) \nMethod of realization: Experts from „Tehpro“ d.o.o. will have introductory presentations on selected issues\, as well as examples of good and / or bad practice. After which the discussion will be held. \nTarget groups: OHS professionals\, lawyers and HR managers and other managers who participate in regulating labor-legal relations and are involved in OHS in any capacity. \nLecturers: experts from „Tehpro“ d.o.o.\, lawyers with many years of practical experience in managing OHS for a lot of different organizations. \nWE DON’T RETELL REGULATIONS! WE HELP YOU APPLY THEM OPTIMALLY.
URL:https://tehpro.rs/event/seminar-health-and-safety-at-work-and-labor-law/
LOCATION:Tehpro\, Lole Ribara 120\, Belgrade\, 11250
CATEGORIES:English
END:VEVENT
BEGIN:VEVENT
DTSTART;TZID=Europe/Belgrade:20240319T090000
DTEND;TZID=Europe/Belgrade:20240322T160000
DTSTAMP:20260421T212545
CREATED:20240219T224545Z
LAST-MODIFIED:20240219T224545Z
UID:12809-1710838800-1711123200@tehpro.rs
SUMMARY:EMERGENCY SITUATIONS - PREPARATORY LESSONS
DESCRIPTION:TRAINING FOR OBTAINING A LICENSE FOR MAKING ASSESSMENTS DISASTER RISK AND\nPROTECTION AND RESCUE PLAN \nDate: 19. 3.2024. – 22. 3.2024.\nTime: 09.00h – 16.00h\nLocation: TEHPRO\, Lole Ribara 120\, 11250 Belgrade \nOnly legal entities that are authorized by the Ministry of internal afairs can organise Training for obtaining the License for making the disaster risk assessment and protection and rescue plan. \nTehpro d.o.o. has been working in the field of OHS\, FP\, environmental protection and emergency situations for more then 30 years. We have done large number of risk assessments and plans in these fields. Our experts also have extensive experience in adult education\, which is verified by the Ministry of Education\, and for some programs in these fields we obtained the status of publicly recognized organizer of adult education activities.\nMethod of realization \nThe training lasts for 32 teaching hours in accordance with the Rulebook on professional exam for making disaster risk assessment and protection and rescue plan (Official Gazette of RS\, 20/2019). \nCALL FOR MORE INFORMATION\n+381 62 8081 483 \nAPPLICATION\nContact: Dragana Rašić\ne-mail: dragana.rasic@tehpro.rs
URL:https://tehpro.rs/event/emergency-situations-preparatory-lessons/
LOCATION:Tehpro\, Lole Ribara 120\, Belgrade\, 11250
CATEGORIES:English
END:VEVENT
END:VCALENDAR