BEGIN:VCALENDAR
VERSION:2.0
PRODID:-//Tehpro - ECPv6.15.20//NONSGML v1.0//EN
CALSCALE:GREGORIAN
METHOD:PUBLISH
X-WR-CALNAME:Tehpro
X-ORIGINAL-URL:https://tehpro.rs
X-WR-CALDESC:Events for Tehpro
REFRESH-INTERVAL;VALUE=DURATION:PT1H
X-Robots-Tag:noindex
X-PUBLISHED-TTL:PT1H
BEGIN:VTIMEZONE
TZID:Europe/Belgrade
BEGIN:DAYLIGHT
TZOFFSETFROM:+0100
TZOFFSETTO:+0200
TZNAME:CEST
DTSTART:20230326T010000
END:DAYLIGHT
BEGIN:STANDARD
TZOFFSETFROM:+0200
TZOFFSETTO:+0100
TZNAME:CET
DTSTART:20231029T010000
END:STANDARD
BEGIN:DAYLIGHT
TZOFFSETFROM:+0100
TZOFFSETTO:+0200
TZNAME:CEST
DTSTART:20240331T010000
END:DAYLIGHT
BEGIN:STANDARD
TZOFFSETFROM:+0200
TZOFFSETTO:+0100
TZNAME:CET
DTSTART:20241027T010000
END:STANDARD
BEGIN:DAYLIGHT
TZOFFSETFROM:+0100
TZOFFSETTO:+0200
TZNAME:CEST
DTSTART:20250330T010000
END:DAYLIGHT
BEGIN:STANDARD
TZOFFSETFROM:+0200
TZOFFSETTO:+0100
TZNAME:CET
DTSTART:20251026T010000
END:STANDARD
END:VTIMEZONE
BEGIN:VEVENT
DTSTART;TZID=Europe/Belgrade:20240430T100000
DTEND;TZID=Europe/Belgrade:20240430T150000
DTSTAMP:20260421T192730
CREATED:20240403T112247Z
LAST-MODIFIED:20240403T112247Z
UID:12854-1714471200-1714489200@tehpro.rs
SUMMARY:XVII PROFESSIONAL COUNSELING
DESCRIPTION:TOPIC: GOOD PRACTICE OF RISK MANAGEMENT IN THE FIELD OF OCCUPATIONAL HEALTH AND SAFETY \nTraditionally\, on the Health and safety Day\, Tehpro d.o.o. in cooperation with companies that have the best practice of BZR\, organizes the XVII professional consultation on current problems of occupational health and safety in Serbia \nWe invite you to join us for\, we will be discussing the best\, prevention\, practicies in OHS. \nWhy this topic? For almost 20 years\, in Serbia are aplied modern regulations in the field of occupational health and safety. During this time\, a large number of foreign and domestic companies have built good practices in this area. For further improvement of the state of OHS\, it is of utmost importance to exchange experiences and learn from the the best. That is why we have decided to offer you an overview and discussion of the best practice in OHS with cooperation of our clients and partners. \nWhy choose Tehpro d.o.o. and join us on this event? Because we are sure that this will help you further improve occupational health and safety prevention in your organization. \nOur goal is to improve your knowledge and abilities\, because it will make it easier to recognize the true values in the OHS services market. Tehpro d.o.o. is building the highest standards for over three decades. \nBasic questions – examples of good practice at:\n• Establishing a reliable management OHS system in Organisation\,\n• Introduction and implementation of occupational health and safety management system ISO 45001\,\n• Organizing the work of OHS\,\n• The engagement of the occupational medicine service\,\n• Organizing and conducting trainings in the field of BZR\,\n• Defining procedures and issuing work permits\,\n• Inspections and checks of work equipment and testing of working conditions\,\n• Management of visitors\, contractors and workers\,\n• Organizing OHS on construction sites/worksites\,\n• Inclusion of employees in the OHS system and the development of safety culture\,\n• Conduct during inspection supervision\, etc. \nMethod of realization: Experts from „Tehpro“ d.o.o. and the company with the best practice in OHS will talk about their good practice and other issues. Discussions may be held after each presentation. \nTarget groups (which we expect): OHS experts – advisors and associates in the field of OHS\, managers of sectors and departments\, employees\, unions and health institutions representatives\, that are involved in OHS activities. \nAPPLICATION\nDragana Rašić\, tel: +381 62 8081 483\, e-mail: dragana.rasic@tehpro.rs
URL:https://tehpro.rs/event/xvii-professional-counseling/
LOCATION:In Hotel\, Bul. Arsenija Čarnojevića 56\, Belgrade\, 11070
CATEGORIES:English
END:VEVENT
END:VCALENDAR