BEGIN:VCALENDAR
VERSION:2.0
PRODID:-//Tehpro - ECPv6.15.20//NONSGML v1.0//EN
CALSCALE:GREGORIAN
METHOD:PUBLISH
X-WR-CALNAME:Tehpro
X-ORIGINAL-URL:https://tehpro.rs
X-WR-CALDESC:Events for Tehpro
REFRESH-INTERVAL;VALUE=DURATION:PT1H
X-Robots-Tag:noindex
X-PUBLISHED-TTL:PT1H
BEGIN:VTIMEZONE
TZID:Europe/Belgrade
BEGIN:DAYLIGHT
TZOFFSETFROM:+0100
TZOFFSETTO:+0200
TZNAME:CEST
DTSTART:20230326T010000
END:DAYLIGHT
BEGIN:STANDARD
TZOFFSETFROM:+0200
TZOFFSETTO:+0100
TZNAME:CET
DTSTART:20231029T010000
END:STANDARD
BEGIN:DAYLIGHT
TZOFFSETFROM:+0100
TZOFFSETTO:+0200
TZNAME:CEST
DTSTART:20240331T010000
END:DAYLIGHT
BEGIN:STANDARD
TZOFFSETFROM:+0200
TZOFFSETTO:+0100
TZNAME:CET
DTSTART:20241027T010000
END:STANDARD
BEGIN:DAYLIGHT
TZOFFSETFROM:+0100
TZOFFSETTO:+0200
TZNAME:CEST
DTSTART:20250330T010000
END:DAYLIGHT
BEGIN:STANDARD
TZOFFSETFROM:+0200
TZOFFSETTO:+0100
TZNAME:CET
DTSTART:20251026T010000
END:STANDARD
END:VTIMEZONE
BEGIN:VEVENT
DTSTART;TZID=Europe/Belgrade:20240516T100000
DTEND;TZID=Europe/Belgrade:20240516T170000
DTSTAMP:20260421T174638
CREATED:20240415T120249Z
LAST-MODIFIED:20240415T120249Z
UID:12867-1715853600-1715878800@tehpro.rs
SUMMARY:WORKSHOP - IMPROVING THE KNOWLEDGE OF OHS PROFESIONALS
DESCRIPTION:Program Unit 1: General and special measures in the field of occupational safety and health: \nSUBJECT:\nChronic workplace fatigue and a healthy working environment \nDate and time: 16. 5. 2024. / 10.00 h\nLocation: TEHPRO d.o.o\, Lole Ribara 120\, 11250 Belgrade \nWe invite you to join us on a workshop where\, we are going to discuss\, chronic fatigue syndrome and the importance of early recognizing the symptoms and responding to them. \nWHY THIS TOPIC? \nChronic fatigue syndrome is a serious condition that drastically impairs health if it is not delt with in time. Since the mechanisms and causes of occurrence have become the subject of study of the psychophysiology of work\, our experts will\, from many different perspectives\, point out the importance of timely symptoms recognition\, the manifestations that can impede mental and pro professional state\, which in turn can reflect on work efficiency. We will highlight rights and responsibilities of the employer in preventing\, recognizing and responding to them\, in order to prevent absenteeism caused by this syndrome. \nThere is a strong interaction between employee performance and a healthy work environment. The workshop will discuss a healthy working environment from the point of view of Occupational Medicine\, as well as the importance of creating a healthy working environment\, safety culture\, a clear role in the work process and fair treatment. There will also be presented\, some of the good practice examples. \nGOAL OF THE WORKSHOP\nThrough an interactive approach to this topic\, we will point out the importance of early recognition of the symptoms of this syndrome and offer adequate solutions. \nTARGET GROUPS\nOHS Specialists\, HR managers and specialists in occupational medicine who recognize in themselves or others the symptoms of any stage of this syndrome. \nMETHOD OF REALIZATION\nExperts from Tehpro will have presentations on the topics\, as well as examples of good practice. There will be a self-assessment of the level of stress\, which is the main cause of chronic fatigue syndrome\, discussion will be held on key issues\, examples from participants of their own experiences and successful /unsuccessful ways of overcoming this problem. \nAPPLICATION\nDragana Rasic; +381 62 8081 483; dragana.rasic@tehpro.rs
URL:https://tehpro.rs/event/workshop-improving-the-knowledge-of-ohs-profesionals-2/
LOCATION:Tehpro\, Lole Ribara 120\, Belgrade\, 11250
CATEGORIES:English
END:VEVENT
END:VCALENDAR