BEGIN:VCALENDAR
VERSION:2.0
PRODID:-//Tehpro - ECPv6.15.20//NONSGML v1.0//EN
CALSCALE:GREGORIAN
METHOD:PUBLISH
X-WR-CALNAME:Tehpro
X-ORIGINAL-URL:https://tehpro.rs
X-WR-CALDESC:Events for Tehpro
REFRESH-INTERVAL;VALUE=DURATION:PT1H
X-Robots-Tag:noindex
X-PUBLISHED-TTL:PT1H
BEGIN:VTIMEZONE
TZID:Europe/Belgrade
BEGIN:DAYLIGHT
TZOFFSETFROM:+0100
TZOFFSETTO:+0200
TZNAME:CEST
DTSTART:20250330T010000
END:DAYLIGHT
BEGIN:STANDARD
TZOFFSETFROM:+0200
TZOFFSETTO:+0100
TZNAME:CET
DTSTART:20251026T010000
END:STANDARD
BEGIN:DAYLIGHT
TZOFFSETFROM:+0100
TZOFFSETTO:+0200
TZNAME:CEST
DTSTART:20260329T010000
END:DAYLIGHT
BEGIN:STANDARD
TZOFFSETFROM:+0200
TZOFFSETTO:+0100
TZNAME:CET
DTSTART:20261025T010000
END:STANDARD
BEGIN:DAYLIGHT
TZOFFSETFROM:+0100
TZOFFSETTO:+0200
TZNAME:CEST
DTSTART:20270328T010000
END:DAYLIGHT
BEGIN:STANDARD
TZOFFSETFROM:+0200
TZOFFSETTO:+0100
TZNAME:CET
DTSTART:20271031T010000
END:STANDARD
END:VTIMEZONE
BEGIN:VEVENT
DTSTART;TZID=Europe/Belgrade:20260210T100000
DTEND;TZID=Europe/Belgrade:20260210T130000
DTSTAMP:20260420T102902
CREATED:20260116T140213Z
LAST-MODIFIED:20260116T140213Z
UID:13511-1770717600-1770728400@tehpro.rs
SUMMARY:WEBINAR: Applying AI in the OSH System — From Documentation to Real Prevention
DESCRIPTION:An increasing share of OSH work is being absorbed by administration: reports\, records\, analyses\, training logs\, audits\, and compliance activities. At the same time\, management expectations continue to grow — faster responses\, clear corrective actions\, trend insights\, and measurable results are required. \nThis webinar demonstrates how artificial intelligence (AI) and ChatGPT can be applied in a practical\, controlled\, and compliant way within the OSH system — reducing administrative burden\, improving documentation consistency\, accelerating incident and audit processing\, and strengthening safety culture through better use of data. \nThe focus is not on “technology for the sake of technology\,” but on concrete use cases that deliver fast and tangible results: AI-assisted OSH documentation (SOP/JSA/LOTO)\, incident and near-miss analysis with “lessons learned\,” smart checklists and automated audit reporting\, as well as micro-trainings that improve understanding and on-site behavior. \nA key value of the webinar is the section dedicated to the “guardrails” approach: data privacy\, audit trails\, human-in-the-loop verification\, and practical rules that allow AI to be introduced into OSH systems without increasing risk or compromising accountability and compliance. \nAt the end of the webinar\, participants will receive a clear roadmap: how to select the first pilot project\, how to define metrics\, and how to achieve the first measurable results within 30 days. \nRegistration link: REGISTRATION \nWhat participants will gain\n• The 5 most cost-effective AI applications in OSH (with real examples)\n• Mini-demo: incident + audit findings → report + corrective actions\n• Practical AI usage rules (privacy\, audit trail\, human-in-the-loop)\n• Prompt library for SOP / JSA / incidents / audits / training\n• Pilot blueprint: 30 days to first measurable results\n• Q&A focused on real-world challenges \nFor more information\nDragana Rašić\nEducation Center Coordinator\ndragana.rasic@tehpro.rs\n+381 62 8081 483
URL:https://tehpro.rs/event/webinar-applying-ai-in-the-osh-system-from-documentation-to-real-prevention/
CATEGORIES:English
END:VEVENT
END:VCALENDAR