BEGIN:VCALENDAR
VERSION:2.0
PRODID:-//Tehpro - ECPv6.15.20//NONSGML v1.0//EN
CALSCALE:GREGORIAN
METHOD:PUBLISH
X-ORIGINAL-URL:https://tehpro.rs
X-WR-CALDESC:Events for Tehpro
REFRESH-INTERVAL;VALUE=DURATION:PT1H
X-Robots-Tag:noindex
X-PUBLISHED-TTL:PT1H
BEGIN:VTIMEZONE
TZID:Europe/Belgrade
BEGIN:DAYLIGHT
TZOFFSETFROM:+0100
TZOFFSETTO:+0200
TZNAME:CEST
DTSTART:20220327T010000
END:DAYLIGHT
BEGIN:STANDARD
TZOFFSETFROM:+0200
TZOFFSETTO:+0100
TZNAME:CET
DTSTART:20221030T010000
END:STANDARD
BEGIN:DAYLIGHT
TZOFFSETFROM:+0100
TZOFFSETTO:+0200
TZNAME:CEST
DTSTART:20230326T010000
END:DAYLIGHT
BEGIN:STANDARD
TZOFFSETFROM:+0200
TZOFFSETTO:+0100
TZNAME:CET
DTSTART:20231029T010000
END:STANDARD
BEGIN:DAYLIGHT
TZOFFSETFROM:+0100
TZOFFSETTO:+0200
TZNAME:CEST
DTSTART:20240331T010000
END:DAYLIGHT
BEGIN:STANDARD
TZOFFSETFROM:+0200
TZOFFSETTO:+0100
TZNAME:CET
DTSTART:20241027T010000
END:STANDARD
END:VTIMEZONE
BEGIN:VEVENT
DTSTART;TZID=Europe/Belgrade:20230120T100000
DTEND;TZID=Europe/Belgrade:20230120T130000
DTSTAMP:20260423T230923
CREATED:20221220T113442Z
LAST-MODIFIED:20221220T113701Z
UID:12162-1674208800-1674219600@tehpro.rs
SUMMARY:RADIONICA USAVRŠAVANJE ZNANJA STRUČNIH LICA ZA BZR
DESCRIPTION:Tema: Visokorizične aktivnosti i Sistem dozvola za rad \nPozivamo Vas da nam se pridružite na radionici na kojoj će se razmatrati teorijski i praktični aspekti efikasnog sprovođenja preventivnih mera BZR primenom sistema dozvola za rad (DZR). \nZašto ova tema?\nZato što je kontinuirano usavršavanje znanja stručnih lica za bezbednost i zdravlje na radu (BZR) nedvosmislena zakonska obaveza i zato što je ova tema od izuzetnog značaja za sva stručna lica za BZR \nZašto da izaberete Tehpro?\nZato što mi ne prepričavamo propise\, već Vas učimo kako da ih sami primenjujete. \nCilj radionica:\nOsposobljavanje učesnika i unapređenje veština efektivnog upravljanja rizicima i vođenje sistema DZR u skladu sa zakonskom regulativom i prepoznatom dobrom praksom. \nNačin realizacije:\nEksperti iz „Tehpro“ d.o.o. prezentovaće uvodna izlaganja po temama\, kao i primere dobre i/ili loše prakse. Nakon toga će se voditi diskusija o ključnim pitanjima. \nCiljne grupe:\nStručna lica za BZR. \nPredavači su eksperti iz „Tehpro“ d.o.o. sa dugogodišnjim iskustvom vođenja poslova BZR i koordinaciji na gradilištima. \nNa osnovu prijave\, dostavićemo Vam predračun. \nPRIJAVA\nKontakt: Dragana Rašić +381 62 8081 483 / e-mail: dragana.rasic@tehpro.rs
URL:https://tehpro.rs/event/radionica-usavrsavanje-znanja-strucnih-lica-za-bzr/
LOCATION:Tehpro centar RS\, Lole Ribara 120\, Beograd\, 11250
CATEGORIES:Srpski
END:VEVENT
BEGIN:VEVENT
DTSTART;TZID=Europe/Belgrade:20230120T100000
DTEND;TZID=Europe/Belgrade:20230120T130000
DTSTAMP:20260423T230923
CREATED:20221220T113809Z
LAST-MODIFIED:20221220T113837Z
UID:12167-1674208800-1674219600@tehpro.rs
SUMMARY:WORKSHOP - IMPROVEMENT OF KNOWLEDGE OF OHS PROFESSIONALS
DESCRIPTION:Subject: High-risk activities and work permit system \nWe invite you to join us on this workshop where we are going to discusse about\, theoretical and practical aspects of effective preventive OHS measures\, through applying work permits system (WPS). \nWhy this topic?\nBecause continuous improvement of OHS Expert’s knowledge is an unequivocal legal obligation and because this topic is of great importance for all OHS professionals. \nWhy choose Tehpro?\nBecause we don’t retell regulations\, we teach you how to apply it yourself. \nAim of the workshop:\nImprovement of skills for effective risk management and work permit system in accordance with legal regulations and recognized good practice. \nMethod of realization:\nExperts from „Tehpro“ d.o.o. will present introductory presentations on the topic\, as well as giving the examples of good and / or bad practice. After\, will be a discussion on key issues. \nTarget groups:\nOHS Experts. \nExperts from „Tehpro“ d.o.o. with many years of experience in OHS management and coordination on construction sites for vide varaity of organizations\, will share their knowledge. \nBased on the application\, we will send you a proforma invoice. \nAPPLICATION\nContact: Dragana Rašić +381 62 8081 483 / e-mail: dragana.rasic@tehpro.rs
URL:https://tehpro.rs/event/workshop-improvement-of-knowledge-of-ohs-professionals/
LOCATION:Tehpro\, Lole Ribara 120\, Belgrade\, 11250
CATEGORIES:English
END:VEVENT
END:VCALENDAR