BEGIN:VCALENDAR
VERSION:2.0
PRODID:-//Tehpro - ECPv6.15.20//NONSGML v1.0//EN
CALSCALE:GREGORIAN
METHOD:PUBLISH
X-ORIGINAL-URL:https://tehpro.rs
X-WR-CALDESC:Events for Tehpro
REFRESH-INTERVAL;VALUE=DURATION:PT1H
X-Robots-Tag:noindex
X-PUBLISHED-TTL:PT1H
BEGIN:VTIMEZONE
TZID:Europe/Belgrade
BEGIN:DAYLIGHT
TZOFFSETFROM:+0100
TZOFFSETTO:+0200
TZNAME:CEST
DTSTART:20220327T010000
END:DAYLIGHT
BEGIN:STANDARD
TZOFFSETFROM:+0200
TZOFFSETTO:+0100
TZNAME:CET
DTSTART:20221030T010000
END:STANDARD
BEGIN:DAYLIGHT
TZOFFSETFROM:+0100
TZOFFSETTO:+0200
TZNAME:CEST
DTSTART:20230326T010000
END:DAYLIGHT
BEGIN:STANDARD
TZOFFSETFROM:+0200
TZOFFSETTO:+0100
TZNAME:CET
DTSTART:20231029T010000
END:STANDARD
BEGIN:DAYLIGHT
TZOFFSETFROM:+0100
TZOFFSETTO:+0200
TZNAME:CEST
DTSTART:20240331T010000
END:DAYLIGHT
BEGIN:STANDARD
TZOFFSETFROM:+0200
TZOFFSETTO:+0100
TZNAME:CET
DTSTART:20241027T010000
END:STANDARD
END:VTIMEZONE
BEGIN:VEVENT
DTSTART;TZID=Europe/Belgrade:20231128T100000
DTEND;TZID=Europe/Belgrade:20231128T140000
DTSTAMP:20260423T052201
CREATED:20231031T092150Z
LAST-MODIFIED:20231031T094227Z
UID:12657-1701165600-1701180000@tehpro.rs
SUMMARY:STRUČNO SAVETOVANJE - VRANJE - PRAKTIČNA PRIMENA NOVOG ZAKONA O BZR
DESCRIPTION:STRUČNO SAVETOVANJE U OBLASTI BZR\nTEMA: PRAKTIČNA PRIMENA NOVOG ZAKONA O BZR \nDatum i vreme:\n28.11.2023. od 10h \n\nMesto održavanja: BRITISH AMERICAN TOBACCO\, Stefana Prvovenčanog 209\, Vranje \nStupio je na snagu Nov i Zakon o bezbednosti i zdravlju na radu koji sadrži bitne novine za poslodavce i pravna lica sa licencama koje će zahtevati značajna prilagođavanja poslovanja i nove finansijske obaveze. \nNakon detaljne analize svih zakonskih rešenja na internim raspravama u Tehpro d.o. o. svoje stavove smo objavili u knjizi „Komentar Zakona o bezbednosti i zdravlju na radu sa instrukcijama za praktičnu primenu“\, koje želimo da podelimo sa vama. \nPozivamo Vas\, da nam se pridružite na našem stručnom savetovanju na kojem ćemo diskutovati o optimalnoj primeni zakona i unapređenju bezbednosti i zdravlja na radu\, sa ciljem razmene iskustava i ideja. \nCiljne grupe:\nPoslodavci\, savetnici\, saradnici i odgovorna lica iz oblasti bezbednosti i zdravlja na radu\, izabrani predstavnici radnika\, kao i sva druga lica koja se na bilo koji način bave poslovima bezbednosti i zdravlja na radu. \nNačin realizacije:\nNakon izlaganja eksperata vodi se diskusija po svim pokrenutim pitanjima. \nStručno savetovanje pruža Vam mogućnost da saznate prave informacije i praktične smernice od eksperata iz „Tehpro“ d.o.o. sa dugogodišnjim iskustvom u oblasti bezbednosti i zdravlja na radu. \nKOTIZACIJA: 9.000\,00 rsd\n*Napomena: u cenu nije uračunat PDV \nNa savetovanju će biti predstavljena naša nova knjiga „KOMENTAR ZAKONA O BEZBEDNOSTI I\nZDRAVLJU NA RADU SA INSTRUKCIJAMA ZA PRAKTIČNU PRIMENU“ \nVidimo se na savetovanju! \nPrijava\nDragana Rašić\ntel: +381 62 8081 483\ne-mail: dragana.rasic@tehpro.rs
URL:https://tehpro.rs/event/strucno-savetovanje-u-oblasti-bzr-prakticna-primena-novog-zakona-o-bzr/
CATEGORIES:Srpski
END:VEVENT
END:VCALENDAR