BEGIN:VCALENDAR
VERSION:2.0
PRODID:-//Tehpro - ECPv6.15.20//NONSGML v1.0//EN
CALSCALE:GREGORIAN
METHOD:PUBLISH
X-WR-CALNAME:Tehpro
X-ORIGINAL-URL:https://tehpro.rs
X-WR-CALDESC:Events for Tehpro
REFRESH-INTERVAL;VALUE=DURATION:PT1H
X-Robots-Tag:noindex
X-PUBLISHED-TTL:PT1H
BEGIN:VTIMEZONE
TZID:Europe/Belgrade
BEGIN:DAYLIGHT
TZOFFSETFROM:+0100
TZOFFSETTO:+0200
TZNAME:CEST
DTSTART:20220327T010000
END:DAYLIGHT
BEGIN:STANDARD
TZOFFSETFROM:+0200
TZOFFSETTO:+0100
TZNAME:CET
DTSTART:20221030T010000
END:STANDARD
BEGIN:DAYLIGHT
TZOFFSETFROM:+0100
TZOFFSETTO:+0200
TZNAME:CEST
DTSTART:20230326T010000
END:DAYLIGHT
BEGIN:STANDARD
TZOFFSETFROM:+0200
TZOFFSETTO:+0100
TZNAME:CET
DTSTART:20231029T010000
END:STANDARD
BEGIN:DAYLIGHT
TZOFFSETFROM:+0100
TZOFFSETTO:+0200
TZNAME:CEST
DTSTART:20240331T010000
END:DAYLIGHT
BEGIN:STANDARD
TZOFFSETFROM:+0200
TZOFFSETTO:+0100
TZNAME:CET
DTSTART:20241027T010000
END:STANDARD
END:VTIMEZONE
BEGIN:VEVENT
DTSTART;TZID=Europe/Belgrade:20231204T090000
DTEND;TZID=Europe/Belgrade:20231208T160000
DTSTAMP:20260423T034557
CREATED:20231127T092149Z
LAST-MODIFIED:20231127T092600Z
UID:12698-1701680400-1702051200@tehpro.rs
SUMMARY:PRIPREMNA NASTAVA BEZBEDNOST I ZDRAVLJE NA RADU
DESCRIPTION:PRIPREMNA NASTAVA ZA POLAGANJE STRUČNOG ISPITA U OBLASTI BEZBEDNOSTI I ZDRAVLJA NA RADU \nSa iskustvom od preko 30 godina u ovom poslu\, uspešno smo pripremili preko 3000 polaznika koji su nakon toga položili stručni ispit pred komisijom Ministarstva nadležnog za rad.\nOd 2016. god.\, ovo osposobljavanje radimo i kao Javno priznati organizator aktivnosti obrazovanja odraslih\, po Programu neformalnog obrazovanja odraslih – Osposobljavanje za obavljanje poslova bezbednosti i zdravlja na radu\, sertifikovanog kod Agencije za kvalifikacije. Nakon završene obuke\, svim polaznicima izdajemo Potvrdu o savladanom programu obuke. \nNačin realizacije:\nNastavu realizuje naš stručni tim\, sastavljen od izvođača sa višegodišnjim iskustvom u obavljanju poslova u ovoj oblasti. Program pripremne nastave za polaganje ispita je u potpunosti prilagođen potrebama polaznika kako bi uspešno savladali materiju. \nPripremna nastava se realizuje u trajanju od 5 dana. \nPrijava:\nKontakt: Dragana Rašić;\ntel: +381 62 8081 483;\ne-mail: dragana.rasic@tehpro.rs
URL:https://tehpro.rs/event/priprema-bezbednost-zdravlje-rad-polaganje-ispita/
LOCATION:Tehpro centar RS\, Lole Ribara 120\, Beograd\, 11250
CATEGORIES:Srpski
END:VEVENT
BEGIN:VEVENT
DTSTART;TZID=Europe/Belgrade:20231204T090000
DTEND;TZID=Europe/Belgrade:20231208T160000
DTSTAMP:20260423T034557
CREATED:20231127T092528Z
LAST-MODIFIED:20231127T092537Z
UID:12700-1701680400-1702051200@tehpro.rs
SUMMARY:PREPARATORY COURSE – OCCUPATIONAL HEALTH AND SAFETY
DESCRIPTION:TRAINING FOR HEALTH AND SAFETY AT WORK \nDATE: 04.12. – 08.12.2023.\nTIME: 09.00 – 16.00 h\nLocation: TEHPRO\, Lole Ribara 120\, 11250 Belgrade \nWith the experience of over 30 years in this field\, we successfully prepared over 3000 participants\, whom then after passed the professional exam in Ministry of labor\, with ease.\nSince 2016. We are teaching this course as publicly accepted organization for adult education\, according to the program for adult education – training for preparing the candidates to perform OHS expert’s tasks. This program is accredited by Ministry of education\, science and technological development\, as well as Qualification Agency. After the course we issue a certificate of successful course completion. \nMethod of realization:\nThe course is realized by our expert team\, which comprised of trainers with vast experience in the field of health and safety at work. This course is completely adjusted to the needs of participants so they can easily comprehend and deal with this subject.\nPreparatory classes are conducted over a period of 5 days.\nBased on the application\, we will provide you with a proforma invoice. \nAPPLICATION\nContact: Dragana Rašić\ntel: +381 62 8081 483\ne-mail: dragana.rasic@tehpro.rs
URL:https://tehpro.rs/event/prep-course-safety-health/
LOCATION:Tehpro\, Lole Ribara 120\, Belgrade\, 11250
CATEGORIES:English
END:VEVENT
BEGIN:VEVENT
DTSTART;TZID=Europe/Belgrade:20231225T100000
DTEND;TZID=Europe/Belgrade:20231225T133000
DTSTAMP:20260423T034557
CREATED:20231128T083513Z
LAST-MODIFIED:20231128T084831Z
UID:12706-1703498400-1703511000@tehpro.rs
SUMMARY:RADIONICA IZ OBLASTI ZAŠTITE ŽIVOTNE SREDINE
DESCRIPTION:UPRAVLJANJE OTPADOM OD GRAĐENJA I RUŠENJA \nUpravljanje otpadom od građenja i rušenja predstavlja jedan od glavnih problema i izazova u vezi sa upravljanjem otpadom u Republici Srbiji. Prema podacima Republičkog zavoda za statistiku\, 2020. godine u Srbiji je generisano oko 729.000 t otpada od građenja i rušenja. \nIako postoji generalna zakonska obaveza da proizvođač otpada odvojeno prikuplja nastali otpad i sortira ga u skladu s budućim tretmanom\, praksa je pokazala da u našoj zemlji trenutno ne postoji praksa odvojenog sakupljanja otpada od građenja i rušenja\, i ne postoji šema za reciklažu ove vrste otpada. \nKako bi se ovaj problem rešio\, Ministarstvo zaštite životne sredine je poslednjom izmenom Zakona o upravljanju otpadom („Sl. glasnik RS“\, br. 36/2009\, 88/2010\, 14/2016\, 95/2018 (dr. zakon) i 35/2023) definisalo upravljanje građevinskim otpadom\, što je poslužilo kao osnov za donošenje Uredbe o načinu i postupku upravljanja otpadom od građenja i rušenja („Sl. glasnik RS“\, broj 93/2023). Ova Uredba\, koja je stupila na snagu početkom novembra\, bliže propisuje način i postupak upravljanja otpadom od građenja i rušenja\, kao i sve aktivnosti i mere koje se odnose na odvojeno sakuplјanje\, razvrstavanje\, transport\, skladištenje\, pripremu za ponovnu upotrebu\, ponovno iskorišćenje i/ili odlaganje građevinskog otpada. \nKako bi Vam pomogli da sagledate sve svoje obaveze u oblasti upravljanja otpadom od građenja i rušenja i uskladite poslovanje svojih kompanija sa ovim novim propisom\, organizujemo radionicu na kojoj će Vas eksperti TEHPRO-a koji imaju dugogodišnje iskustvo u oblasti upravljanja otpadom i zaštite životne sredine\, upoznati sa novinama koje ovaj propis donosi\, a odnose se na:\n• izradu Plana upravlјanja otpadom od građenja i rušenja i pribavljanje saglasnost na taj Plan;\n• uspostavljenje sistema za upravljanje neopasnim i opasnim otpadom od građenja i rušenja\, uz primenu propisanih mera;\n• transport\, tretman i odlaganje otpada od građenja i rušenja;\n• postupanje sa opasnim otpadom od građenja i rušenja koji sadrži azbest\, POPs materije ili živu. \nPRIJAVA\nDragana Rašić\, tel: +381 62 8081 483; e-mail: dragana.rasic@tehpro.rs
URL:https://tehpro.rs/event/ekoradionica-zivotnasredina-otpad-gradjenje/
LOCATION:Tehpro centar RS\, Lole Ribara 120\, Beograd\, 11250
CATEGORIES:Srpski
END:VEVENT
BEGIN:VEVENT
DTSTART;TZID=Europe/Belgrade:20231225T100000
DTEND;TZID=Europe/Belgrade:20231225T133000
DTSTAMP:20260423T034557
CREATED:20231128T084652Z
LAST-MODIFIED:20231128T084652Z
UID:12712-1703498400-1703511000@tehpro.rs
SUMMARY:ENVIRONMENTAL PROTECTION WORKSHOP
DESCRIPTION:CONSTRUCTION AND DEMOLITION WASTE MANAGEMENT \nConstruction and demolition waste management represents one of the main problems and challenges in the field of waste management in the Republic of Serbia. According to the data of the Statistical Office of the Republic of Serbia\, in 2020\, around 729.000 tons of construction and demolition waste was generated in Serbia. \nAlthough legal obligation for waste producers to separately collect generated waste and sort it according to its future treatment already existed\, practice has shown that currently in Serbia there is no separate collection of construction and demolition waste\, as well as established scheme for recycling of this type of waste. \nIn order to solve this problem\, Serbian Ministry of Environmental Protection introduced in the last version of the Waste Management Law (“Official Gazette of the RS”\, Nos 36/09\, 88/10\, 14/16\, 95/18 and 25/23) provision related to construction and demolition waste management\, which served as the basis for the adoption of the Regulation on the Manner and Procedure of Construction and Demolition Waste Management (“Official Gazette of the RS”\, No 93/2023). This Regulation\, that entered into force at the beginning of November\, defines manners and procedures for construction and demolition waste management\, as well as all activities related to separate collection\, separation\, transport\, storage\, preparation for the reuse\, recovery and/or disposal of construction waste. \nIn order to help you get acquainted with all your obligations related to construction and demolition waste management and to implement provisions of this new legislation in your companies\, we organize this workshop. TEHPRO experts with years of experience in the field of waste management and environmental protection\, will present you the most important segments of this new legislation\, related to:\n• Preparation of the Construction and Demolition Waste Management Plan and obtaining consent to that Plan from the competent authority\,\n• Establishing waste management system for hazardous and non-hazardous construction and demolition waste\, by applying recommended measures defined in this Regulation\,\n• Transport\, treatment and disposal of construction and demolition waste\,\n• Management of hazardous construction and demolition waste that contains asbestos\, POPs chemicals or mercury. \nAPPLICATION\nContact: Dragana Rašić\ntel: +381 62 8081 483\ne-mail: dragana.rasic@tehpro.rs
URL:https://tehpro.rs/event/environmental-protection-workshop-serbia/
CATEGORIES:English
END:VEVENT
END:VCALENDAR