BEGIN:VCALENDAR
VERSION:2.0
PRODID:-//Tehpro - ECPv6.15.20//NONSGML v1.0//EN
CALSCALE:GREGORIAN
METHOD:PUBLISH
X-WR-CALNAME:Tehpro
X-ORIGINAL-URL:https://tehpro.rs
X-WR-CALDESC:Events for Tehpro
REFRESH-INTERVAL;VALUE=DURATION:PT1H
X-Robots-Tag:noindex
X-PUBLISHED-TTL:PT1H
BEGIN:VTIMEZONE
TZID:Europe/Belgrade
BEGIN:DAYLIGHT
TZOFFSETFROM:+0100
TZOFFSETTO:+0200
TZNAME:CEST
DTSTART:20230326T010000
END:DAYLIGHT
BEGIN:STANDARD
TZOFFSETFROM:+0200
TZOFFSETTO:+0100
TZNAME:CET
DTSTART:20231029T010000
END:STANDARD
BEGIN:DAYLIGHT
TZOFFSETFROM:+0100
TZOFFSETTO:+0200
TZNAME:CEST
DTSTART:20240331T010000
END:DAYLIGHT
BEGIN:STANDARD
TZOFFSETFROM:+0200
TZOFFSETTO:+0100
TZNAME:CET
DTSTART:20241027T010000
END:STANDARD
BEGIN:DAYLIGHT
TZOFFSETFROM:+0100
TZOFFSETTO:+0200
TZNAME:CEST
DTSTART:20250330T010000
END:DAYLIGHT
BEGIN:STANDARD
TZOFFSETFROM:+0200
TZOFFSETTO:+0100
TZNAME:CET
DTSTART:20251026T010000
END:STANDARD
END:VTIMEZONE
BEGIN:VEVENT
DTSTART;TZID=Europe/Belgrade:20240213T100000
DTEND;TZID=Europe/Belgrade:20240213T140000
DTSTAMP:20260423T002149
CREATED:20240110T082406Z
LAST-MODIFIED:20240110T082406Z
UID:12759-1707818400-1707832800@tehpro.rs
SUMMARY:RADIONICA - USAVRŠAVANJE ZNANJA STRUČNIH LICA ZA BZR
DESCRIPTION:USAVRŠAVANJE ZNANJA STRUČNIH LICA ZA BZR – RADIONICA \nPROGRAMSKA CELINA 1: OPŠTE I POSEBNE MERE U OBLASTI BEZBEDNOSTI I ZDRAVLJA NA RADU \nTEMA: PREVENTIVNE MERE BZR NA GRADILIŠTU/RADILIŠTU \nPozivamo Vas da nam se pridružite na radionici na kojoj će se razmatrati i uvežbavati normativno-pravni i praktični aspekti prevencije bezbednosti i zdravlja na radu na gradilištima/radilištima. \nZašto ova tema?\nZato što je kontinuirano usavršavanje znanja stručnih lica i koordinatora za bezbednost i zdravlje na radu (BZR) nedvosmislena zakonska obaveza i zato što je ova tema od izuzetnog značaja za sve investitore i izvođače radova na gradilištima/radilištima. Tema je posebno aktuelna i zbog novina u propisima koji regulišu ovu oblast\, naročito u pogledu posebnih ovlašćenja inspektora rada. \nZašto da izaberete baš „Tehpro ?\nZato što mi ne prepričavamo propise! Mi vam pomažemo da ih optimalno primenite. \nCilj radionice: unaprediti kompetentnost polaznika za planiranje\, organizovanje\, nadzor i upravljanje dokumentacijom prevencije BZR na gradilištima/radilištima prema najvišim standardima. \nOsnovna pitanja:\n– Specifičnosti prevencije BZR na gradilištima/radilištima\,\n– obaveze investitora\, poslodavca\, koordinatora i stručnih lica\,\n– dobra praksa BZR na gradilišima zasnovana na stalnoj proceni rizika\,\n– izrada i implementacija procedure za izdavanje dozvola za rad\,\n– optimizacija i upravljanje dokumentacije BZR na gradilištima/radilištima\,\n– nadležnosti inspektora. \nNačin realizacije: Prezentovanje uvodnih izlaganja po temama\, kao i primera dobre i/ili loše prakse. Nakon toga će se voditi diskusija o ključnim pitanjima. \nCiljne grupe: stručna lica za BZR\, koordinatori na gradilištima\, šefovi gradilišta i drugi predstavnici poslodavaca i investitora koji učestvuju u pripremi i izvođenju radova na gradilištima/radilištima. \nPredavači: eksperti iz „Tehpro“ d.o.o. sa dugogodišnjim iskustvom vođenja poslova BZR i koordinaciji na gradilištima. \nPRIJAVA\nKontakt: Dragana Rašić\, tel: +381 62 8081 483\, e-mail: dragana.rasic@tehpro.rs
URL:https://tehpro.rs/event/radionica-usavrsavanje-znanja-strucnih-lica-za-bzr-2/
LOCATION:Tehpro centar RS\, Lole Ribara 120\, Beograd\, 11250
CATEGORIES:Srpski
END:VEVENT
BEGIN:VEVENT
DTSTART;TZID=Europe/Belgrade:20240213T100000
DTEND;TZID=Europe/Belgrade:20240213T140000
DTSTAMP:20260423T002149
CREATED:20240115T172737Z
LAST-MODIFIED:20240115T172737Z
UID:12765-1707818400-1707832800@tehpro.rs
SUMMARY:WORKSHOP - IMPROVING THE KNOWLEDGE OF OHS PROFESIONALS
DESCRIPTION:UNIT 1: GENERAL AND SPECIFIC MEASURES IN THE FIELD OF HEALTH AND SAFETY AT WORK \nTOPIC: PREVENTIVE OHS MEASURES ON CONSTRUCTION SITE \nWe invite you to join us on this workshop where we are going to discuss legal norms and practical aspects of occupational health and safety prevention\, focusing on construction sites. \nWhy this topic?\nBecause continuous knowledge improvement of the OHS professionals and construction-site coordinators is an unambiguous legal obligation and because this topic is of great importance for all investors and contractors on construction sites. This is particularly topical because of the novelties in the regulations governing this area\, especially in terms of special authorizations of labor inspectors. \nWhy choose „Techpro“?\nBecause we don’t retell regulations! We help you to apply it optimally. \nGoal of the workshop: to improve the competence of OHS professionals for planning\, organizing\, supervising\, and managing documentation on OHS prevention\, on the construction sites\, according to the highest standards. \nBasic questions:\n•	Specifics of OHS prevention on construction sites\,\n•	obligations of investors\, employers\, coordinators and OHS professionals\,\n•	good OHS practice on construction sites based on constant risk assessment\,\n•	development and implementation of the procedure for issuing work permits\,\n•	optimization and management of OHS documentation on construction sites\,\n•	the inspector’s authority. \nImplementation method: Introductory Presentations by topic\, with examples of good and/or bad practice. After the presentations\, there will be a discussion on key issues. \nTarget groups: OHS experts\, coordinators on construction sites\, site supervisors and other representatives of employers and investors who participate in the preparation and execution of work on construction sites. \nLecturers: experts from „Tehpro“ d.o.o. with many years of experience in managing OHS at work and coordination on construction sites. \nAPPLICATION\nContact: Dragana Rašić\, tel: +381 62 8081 483\, e-mail: dragana.rasic@tehpro.rs
URL:https://tehpro.rs/event/workshop-improving-the-knowledge-of-ohs-profesionals/
LOCATION:Tehpro\, Lole Ribara 120\, Belgrade\, 11250
CATEGORIES:English
END:VEVENT
BEGIN:VEVENT
DTSTART;TZID=Europe/Belgrade:20240219T090000
DTEND;TZID=Europe/Belgrade:20240223T160000
DTSTAMP:20260423T002149
CREATED:20240117T111921Z
LAST-MODIFIED:20240117T111921Z
UID:12777-1708333200-1708704000@tehpro.rs
SUMMARY:PRIPREMNA NASTAVA BEZBEDNOST I ZDRAVLJE NA RADU
DESCRIPTION:PRIPREMNA NASTAVA ZA POLAGANJE STRUČNOG ISPITA U OBLASTI BEZBEDNOSTI I ZDRAVLJA NA RADU \nSa iskustvom od preko 30 godina u ovom poslu\, uspešno smo pripremili preko 3000 polaznika koji su nakon toga položili stručni ispit pred komisijom Ministarstva nadležnog za rad.\nOd 2016. god.\, ovo osposobljavanje radimo i kao Javno priznati organizator aktivnosti obrazovanja odraslih\, po Programu neformalnog obrazovanja odraslih – Osposobljavanje za obavljanje poslova bezbednosti i zdravlja na radu\, sertifikovanog kod Agencije za kvalifikacije. Nakon završene obuke\, svim polaznicima izdajemo Potvrdu o savladanom programu obuke. \nNačin realizacije:\nNastavu realizuje naš stručni tim\, sastavljen od izvođača sa višegodišnjim iskustvom u obavljanju poslova u ovoj oblasti. Program pripremne nastave za polaganje ispita je u potpunosti prilagođen potrebama polaznika kako bi uspešno savladali materiju.\nPripremna nastava se realizuje u trajanju od 5 dana. \nPrijava:\nKontakt: Dragana Rašić;\ntel: +381 62 8081 483;\ne-mail: dragana.rasic@tehpro.rs
URL:https://tehpro.rs/event/pripremna-nastava-bezbednost-i-zdravlje-na-radu-4/
LOCATION:Tehpro centar RS\, Lole Ribara 120\, Beograd\, 11250
CATEGORIES:Srpski
END:VEVENT
BEGIN:VEVENT
DTSTART;TZID=Europe/Belgrade:20240219T090000
DTEND;TZID=Europe/Belgrade:20240223T160000
DTSTAMP:20260423T002149
CREATED:20240117T112204Z
LAST-MODIFIED:20240117T112204Z
UID:12779-1708333200-1708704000@tehpro.rs
SUMMARY:PREPARATORY COURSE – OCCUPATIONAL HEALTH AND SAFETY
DESCRIPTION:TRAINING FOR HEALTH AND SAFETY AT WORK \nWith the experience of over 30 years in this field\, we successfully prepared over 3000 participants\, whom then after passed the professional exam in Ministry of labor\, with ease.\nSince 2016. We are teaching this course as publicly accepted organization for adult education\, according to the program for adult education – training for preparing the candidates to perform OHS expert’s tasks. This program is accredited by Ministry of education\, science and technological development\, as well as Qualification Agency. After the course we issue a certificate of successful course completion. \nMethod of realization:\nThe course is realized by our expert team\, which comprised of trainers with vast experience in the field of health and safety at work. This course is completely adjusted to the needs of participants so they can easily comprehend and deal with this subject.\nPreparatory classes are conducted over a period of 5 days.\nBased on the application\, we will provide you with a proforma invoice. \nAPPLICATION\nContact: Dragana Rašić\ntel: +381 62 8081 483\ne-mail: dragana.rasic@tehpro.rs
URL:https://tehpro.rs/event/preparatory-course-occupational-health-and-safety-2/
LOCATION:Tehpro\, Lole Ribara 120\, Belgrade\, 11250
CATEGORIES:English
END:VEVENT
END:VCALENDAR