BEGIN:VCALENDAR
VERSION:2.0
PRODID:-//Tehpro - ECPv6.15.20//NONSGML v1.0//EN
CALSCALE:GREGORIAN
METHOD:PUBLISH
X-WR-CALNAME:Tehpro
X-ORIGINAL-URL:https://tehpro.rs
X-WR-CALDESC:Events for Tehpro
REFRESH-INTERVAL;VALUE=DURATION:PT1H
X-Robots-Tag:noindex
X-PUBLISHED-TTL:PT1H
BEGIN:VTIMEZONE
TZID:Europe/Belgrade
BEGIN:DAYLIGHT
TZOFFSETFROM:+0100
TZOFFSETTO:+0200
TZNAME:CEST
DTSTART:20230326T010000
END:DAYLIGHT
BEGIN:STANDARD
TZOFFSETFROM:+0200
TZOFFSETTO:+0100
TZNAME:CET
DTSTART:20231029T010000
END:STANDARD
BEGIN:DAYLIGHT
TZOFFSETFROM:+0100
TZOFFSETTO:+0200
TZNAME:CEST
DTSTART:20240331T010000
END:DAYLIGHT
BEGIN:STANDARD
TZOFFSETFROM:+0200
TZOFFSETTO:+0100
TZNAME:CET
DTSTART:20241027T010000
END:STANDARD
BEGIN:DAYLIGHT
TZOFFSETFROM:+0100
TZOFFSETTO:+0200
TZNAME:CEST
DTSTART:20250330T010000
END:DAYLIGHT
BEGIN:STANDARD
TZOFFSETFROM:+0200
TZOFFSETTO:+0100
TZNAME:CET
DTSTART:20251026T010000
END:STANDARD
END:VTIMEZONE
BEGIN:VEVENT
DTSTART;TZID=Europe/Belgrade:20240902T090000
DTEND;TZID=Europe/Belgrade:20240902T160000
DTSTAMP:20260422T114304
CREATED:20240819T095632Z
LAST-MODIFIED:20240819T095632Z
UID:13046-1725267600-1725292800@tehpro.rs
SUMMARY:PRIPREMNA NASTAVA ZOP
DESCRIPTION:Pripremna nastava za polaganje stručnog ispita \nZakon\nSva lica koja kod subjekata zaštite od požara obavljaju poslove zaštite od požara (ZOP) moraju da polože stručni ispit u oblasti ZOP pred komisijom Ministarstva unutrašnjih poslova Republike Srbije. Uslov za izlazak na ispit je obavezna pripremna nastava prema programu koji je propisao nadležni ministar. \nO nama\nPrivredno društvo „TEHPRO“ d.o.o. ima veliko iskustvo u organizovanju posebnih oblika edukacije u oblasti zaštite od požara\, bezbednosti i zdravlja na radu i zaštite životne sredine. Iskustvo i andragoške kompetencije svih naših izvođača garantuje kvalitet nastave i visoku prolaznost na ispitu. \nNačin realizacije:\nProgram\, koji sadrži 180 nastavnih časova\, realizujemo dinamikom koja je usaglašena sa strukturom i mogućnostima polaznika kroz pogodne oblike i sadržaje nastavnog rada. \nMi ne prepričavamo propise. Kod nas ćete dobiti najbolju pripremu za ispit\, ali i naučiti kako da u praksi obavljate stručne poslove ZOP. \nZAJEDNO EDUKACIJOM DO PRAVIH VREDNOSTI! \nPOZOVITE ZA VIŠE INFORMACIJA\n+381 62 8081 483 \nPRIJAVA\nKontakt: Dragana Rašić\ne-mail: dragana.rasic@tehpro.rs
URL:https://tehpro.rs/event/pripremna-nastava-zop-3/
LOCATION:Tehpro centar RS\, Lole Ribara 120\, Beograd\, 11250
CATEGORIES:Srpski
END:VEVENT
BEGIN:VEVENT
DTSTART;TZID=Europe/Belgrade:20240902T090000
DTEND;TZID=Europe/Belgrade:20240902T160000
DTSTAMP:20260422T114304
CREATED:20240819T095759Z
LAST-MODIFIED:20240819T095759Z
UID:13048-1725267600-1725292800@tehpro.rs
SUMMARY:PREPARATORY COURSE FIRE PROTECTION
DESCRIPTION:Reparatory course for taking the vocational exam \nLaw\nAll persons who perform fire protection related activities must pass the professional exam\, which is done at the Ministry of Internal Affairs of the Republic of Serbia. In order to enroll for the exam candidate must go through mandatory preparatory classes according to the program defined by the appointed minister. \nAbout Tehpro\nCompany “TEHPRO” d.o.o. has extensive experience in organizing special forms of education in the field of fire protection\, occupational health and safety and environmental protection. The experience and competences of all our educators guarantee the quality of work and high percentage of candidates passing the exam. \nMethod of realization:\nThe program\, contains 180 teaching hours\, is implemented with a dynamic that is consistent with the structure and capabilities of the participants through the appropriate forms of teaching work and content. \nWe don’t follow regulations. With us you will get the best preparation for the exam\, but also learn how to practice professional JOP tasks. \nTOGETHER BY EDUCATING TO THE RIGHT VALUES! \nFOR MORE INFORMATION\, CALL\,\n+381 62 8081 483 \nAPPLY:\nContact: Dragana Rašić\ne-mail: dragana.rasic@tehpro.rs
URL:https://tehpro.rs/event/preparatory-course-fire-protection-4/
LOCATION:Tehpro\, Lole Ribara 120\, Belgrade\, 11250
CATEGORIES:English
END:VEVENT
BEGIN:VEVENT
DTSTART;TZID=Europe/Belgrade:20240923T090000
DTEND;TZID=Europe/Belgrade:20240927T160000
DTSTAMP:20260422T114304
CREATED:20240906T100029Z
LAST-MODIFIED:20240906T100029Z
UID:13074-1727082000-1727452800@tehpro.rs
SUMMARY:PRIPREMNA NASTAVA BEZBEDNOST I ZDRAVLJE NA RADU
DESCRIPTION:PRIPREMNA NASTAVA ZA POLAGANJE STRUČNOG ISPITA U OBLASTI BEZBEDNOSTI I ZDRAVLJA NA RADU \nSa iskustvom od preko 30 godina u ovom poslu\, uspešno smo pripremili preko 3000 polaznika koji su nakon toga položili stručni ispit pred komisijom Ministarstva nadležnog za rad.\nOd 2016. god. ovo osposobljavanje radimo i kao Javno priznati organizator aktivnosti obrazovanja odraslih\, po Programu neformalnog obrazovanja odraslih – Osposobljavanje za obavljanje poslova bezbednosti i zdravlja na radu\, sertifikovanog kod Agencije za kvalifikacije. Nakon završene obuke\, svim polaznicima izdajemo Potvrdu o savladanom programu obuke. \nNačin realizacije:\nNastavu realizuje naš stručni tim\, sastavljen od izvođača sa višegodišnjim iskustvom u obavljanju poslova u ovoj oblasti. Program pripremne nastave za polaganje ispita je u potpunosti prilagođen potrebama polaznika kako bi uspešno savladali materiju.\nPripremna nastava se realizuje u trajanju od 5 dana. \nPrijava:\nKontakt: Dragana Rašić;\ntel: +381 62 8081 483; e-mail: dragana.rasic@tehpro.rs
URL:https://tehpro.rs/event/pripremna-nastava-bezbednost-i-zdravlje-na-radu-6/
LOCATION:Tehpro centar RS\, Lole Ribara 120\, Beograd\, 11250
CATEGORIES:Srpski
END:VEVENT
BEGIN:VEVENT
DTSTART;TZID=Europe/Belgrade:20240923T090000
DTEND;TZID=Europe/Belgrade:20240927T160000
DTSTAMP:20260422T114304
CREATED:20240906T100316Z
LAST-MODIFIED:20240906T100316Z
UID:13076-1727082000-1727452800@tehpro.rs
SUMMARY:PREPARATORY COURSE – OCCUPATIONAL HEALTH AND SAFETY
DESCRIPTION:TRAINING FOR HEALTH AND SAFETY AT WORK \nWith the experience of over 30 years in this field\, we successfully prepared over 3000 participants\, whom then after passed the professional exam in Ministry of labor\, with ease.\nSince 2016. We are teaching this course as publicly accepted organization for adult education\, according to the program for adult education – training for preparing the candidates to perform OHS expert’s tasks. This program is accredited by Ministry of education\, science and technological development\, as well as Qualification Agency. After the course we issue a certificate of successful course completion. \nMethod of realization:\nThe course is realized by our expert team\, which comprised of trainers with vast experience in the field of health and safety at work. This course is completely adjusted to the needs of participants so they can easily comprehend and deal with this subject.\nPreparatory classes are conducted over a period of 5 days.\nBased on the application\, we will provide you with a proforma invoice. \nAPPLICATION\nContact: Dragana Rašić\ntel: +381 62 8081 483; e-mail: dragana.rasic@tehpro.rs
URL:https://tehpro.rs/event/preparatory-course-occupational-health-and-safety-4/
LOCATION:Tehpro\, Lole Ribara 120\, Belgrade\, 11250
CATEGORIES:English
END:VEVENT
END:VCALENDAR