BEGIN:VCALENDAR
VERSION:2.0
PRODID:-//Tehpro - ECPv6.15.20//NONSGML v1.0//EN
CALSCALE:GREGORIAN
METHOD:PUBLISH
X-ORIGINAL-URL:https://tehpro.rs
X-WR-CALDESC:Events for Tehpro
REFRESH-INTERVAL;VALUE=DURATION:PT1H
X-Robots-Tag:noindex
X-PUBLISHED-TTL:PT1H
BEGIN:VTIMEZONE
TZID:Europe/Belgrade
BEGIN:DAYLIGHT
TZOFFSETFROM:+0100
TZOFFSETTO:+0200
TZNAME:CEST
DTSTART:20240331T010000
END:DAYLIGHT
BEGIN:STANDARD
TZOFFSETFROM:+0200
TZOFFSETTO:+0100
TZNAME:CET
DTSTART:20241027T010000
END:STANDARD
BEGIN:DAYLIGHT
TZOFFSETFROM:+0100
TZOFFSETTO:+0200
TZNAME:CEST
DTSTART:20250330T010000
END:DAYLIGHT
BEGIN:STANDARD
TZOFFSETFROM:+0200
TZOFFSETTO:+0100
TZNAME:CET
DTSTART:20251026T010000
END:STANDARD
BEGIN:DAYLIGHT
TZOFFSETFROM:+0100
TZOFFSETTO:+0200
TZNAME:CEST
DTSTART:20260329T010000
END:DAYLIGHT
BEGIN:STANDARD
TZOFFSETFROM:+0200
TZOFFSETTO:+0100
TZNAME:CET
DTSTART:20261025T010000
END:STANDARD
END:VTIMEZONE
BEGIN:VEVENT
DTSTART;TZID=Europe/Belgrade:20250408T080000
DTEND;TZID=Europe/Belgrade:20250411T170000
DTSTAMP:20260421T224903
CREATED:20250304T132527Z
LAST-MODIFIED:20250304T132527Z
UID:13253-1744099200-1744390800@tehpro.rs
SUMMARY:OBUKA ZA DOBIJANJE LICENCE ZA IZRADU PROCENE RIZIKA OD KATASTROFA I PLANA ZAŠTITE I SPASAVANJA
DESCRIPTION:Postanite licencirani stručnjak za izradu procena rizika od katastrofa i planova zaštite i spasavanja. Naša obuka pruža sveobuhvatno znanje i veštine potrebne za uspešno polaganje ispita i sticanje licence\, u skladu sa Pravilnikom o stručnom ispitu (Sl. glasnik RS\, br. 20/2019). \nZašto odabrati Tehpro? \n– Više od 30 godina iskustva. Tehpro je lider u oblastima bezbednosti i zdravlja na radu\, zaštite od požara\, zaštite životne sredine i vanrednih situacija. \n– Dokazana ekspertiza. Naši stručnjaci iza sebe imaju stotine uspešno izrađenih procena rizika i planova koji su dobilli saglasnost nadležnih organa. \n– Verifikovan kvalitet. Obuku realizujemo u skladu sa rešenjem Ministarstva unutrašnjih poslova\, zadovoljavajući najviše standarde. \n– Proverena metodologija. Naši predavači poseduju visok nivo andragoških kompetencija\, osiguravajući kvalitetnu i efektivnu pripremu. \nDetalji obuke: \nObuka traje 32 nastavna časa i obuhvata sve aspekte izrade procena rizika i planova zaštite i spasavanja\, uz praktične primere i smernice za polaganje ispita. \nNastavu izvodi stručni tim predavača sa dugogodišnjim iskustvom u praksi i edukaciji u oblasti VS\, garantujući kvalitetno osposobljavanje\, visok nivo znanja za polaganje ispita i praktičnu primenu. \nPRIJAVA\nDragana Rašić\ndragana.rasic@tehpro.rs\nwww.tehpro.rs
URL:https://tehpro.rs/event/obuka-za-dobijanje-licence-za-izradu-procene-rizika-od-katastrofa-i-plana-zastite-i-spasavanja-4/
LOCATION:Tehpro centar RS\, Lole Ribara 120\, Beograd\, 11250
CATEGORIES:Srpski
END:VEVENT
BEGIN:VEVENT
DTSTART;TZID=Europe/Belgrade:20250424T100000
DTEND;TZID=Europe/Belgrade:20250424T150000
DTSTAMP:20260421T224903
CREATED:20250328T102222Z
LAST-MODIFIED:20250404T170835Z
UID:13260-1745488800-1745506800@tehpro.rs
SUMMARY:XIII STRUČNO SAVETOVANJE BZR
DESCRIPTION:MESTO SUSRETA BZR STRUČNJAKA \nTEMATSKI OKVIR: Unapređenje odnosa i ponašanja u sistemu BZR \nEksperti iz Tehpro-a\, zajedno sa gostujućim predavačima iz renomiranih domaćih i međunarodnih kompanija\, podeliće svoja iskustva i primere dobre prakse u unapređenju odnosa i ponašanja svih učesnika u sistemu bezbednosti i zdravlja na radu (BZR). Ovaj aspekt prepoznajemo kao ključni uslov za kontinuirano poboljšanje zaštite zaposlenih u radnim procesima. \nPoseban akcenat biće na uporednoj analizi nekih naših spornih normativnih rešenja sa zakonodavstvom i dobrom praksom EU\, kao što su: \n– Već tradicionalno\, u susret Danu bezbednosti i zdravlja na radu\, Tehpro organizuje stručno savetovanje o aktuelnim problemima BZR.\n– Izgradnju odnosa i uspostavljanje komunikacije sa najvišim rukovodstvom organizacije;\n– Ulogu BZR eksperata – policajac ili trener\, na putu izgradnje održivog sistema BZR;\n– Razvoj kompetencija stručnih lica za BZR;\n– Evropski koncept procene rizika i normativne zahteve i prakse u Srbiji;\n– Bezbednost na gradilištima – evropski i nacionalni pristup. \nPozivamo Vas da nam se pridružite na savetovanju kako bismo zajedno radili na unapređenju prevencije bolesti i povreda na radu. Pored mogućnosti da aktivno učestvujete u neposrednoj raspravi\, nudimo Vam i priliku da pripremite saopštenje kojim ćete prezentovati svoju dobru praksu iz opšteg tematskog okvira. Ukoliko ste zainteresovani za to\, molimo Vas da nam do 1. marta dostavite naslov teme i kratki apstrakt\, kako bismo blagovremeno utvrdili konačnu agendu. \nMI NE PREPRIČAVAMO PROPISE! MI VAM POMAŽEMO DA IH OPTIMALNO PRIMENITE. \nAGENDA SAVETOVANJA možete preuzeti na sledećem linku \nZa više informacija i prijavu:\nDragana Rašić / 062 8081 483 / dragana.rasic@tehpro.rs
URL:https://tehpro.rs/event/18-strucno-savetovanje-bzr/
LOCATION:IN Hotel\, Bulevar Arsenija Čarnojevića 56\, Beograd\, Novi Beograd\, 11070
CATEGORIES:Srpski
END:VEVENT
END:VCALENDAR