BEGIN:VCALENDAR
VERSION:2.0
PRODID:-//Tehpro - ECPv6.15.20//NONSGML v1.0//EN
CALSCALE:GREGORIAN
METHOD:PUBLISH
X-ORIGINAL-URL:https://tehpro.rs
X-WR-CALDESC:Events for Tehpro
REFRESH-INTERVAL;VALUE=DURATION:PT1H
X-Robots-Tag:noindex
X-PUBLISHED-TTL:PT1H
BEGIN:VTIMEZONE
TZID:Europe/Belgrade
BEGIN:DAYLIGHT
TZOFFSETFROM:+0100
TZOFFSETTO:+0200
TZNAME:CEST
DTSTART:20240331T010000
END:DAYLIGHT
BEGIN:STANDARD
TZOFFSETFROM:+0200
TZOFFSETTO:+0100
TZNAME:CET
DTSTART:20241027T010000
END:STANDARD
BEGIN:DAYLIGHT
TZOFFSETFROM:+0100
TZOFFSETTO:+0200
TZNAME:CEST
DTSTART:20250330T010000
END:DAYLIGHT
BEGIN:STANDARD
TZOFFSETFROM:+0200
TZOFFSETTO:+0100
TZNAME:CET
DTSTART:20251026T010000
END:STANDARD
BEGIN:DAYLIGHT
TZOFFSETFROM:+0100
TZOFFSETTO:+0200
TZNAME:CEST
DTSTART:20260329T010000
END:DAYLIGHT
BEGIN:STANDARD
TZOFFSETFROM:+0200
TZOFFSETTO:+0100
TZNAME:CET
DTSTART:20261025T010000
END:STANDARD
END:VTIMEZONE
BEGIN:VEVENT
DTSTART;TZID=Europe/Belgrade:20250512T080000
DTEND;TZID=Europe/Belgrade:20250512T150000
DTSTAMP:20260421T210953
CREATED:20250407T081703Z
LAST-MODIFIED:20250407T081714Z
UID:13284-1747036800-1747062000@tehpro.rs
SUMMARY:PRIPREMNA NASTAVA ZOP
DESCRIPTION:PRIPREMNA NASTAVA ZA POLAGANJE STRUČNOG ISPITA ZOP \nZašto odabrati Tehpro? \n• Više od 30 godina iskustva. Tehpro je lider u oblasti zaštite od požara\, bezbednosti i zdravlja na radu\, zaštite životne sredine i vanrednih situacija. \n• Povećanje prolaznosti na stručnim ispitima. Naši polaznici pokazuju značajno bolje rezultate na stručnim ispitima zahvaljujući pažljivo osmišljenom programu. \n• Proverena metodologija. Naši predavači poseduju visok nivo andragoških kompetencija\, osiguravajući kvalitetnu i efektivnu pripremu. \nNačin realizacije obuke:\nProgram obuke obuhvata 180 nastavnih časova i prilagođen je Vašim mogućnostima i tempu učenja. Koristimo praktične primere i interaktivne metode kako bismo obezbedili da se što bolje pripremite za stručni ispit i sve izazove profesionalne primene u praksi. \nNastavu izvodi tim iskusnih predavača sa dugogodišnjim iskustvom u praksi i edukaciji u oblasti ZOP\, garantujući kvalitetno osposobljavanje\, visok nivo znanja za polaganje ispita i praktičnu primenu. \nMi ne prepričavamo propise.\nNaša misija je unapređenje prakse! \nPRIJAVA\nDragana Rašić\ndragana.rasic@tehpro.rs / +381 62 8081 483
URL:https://tehpro.rs/event/pripremna-nastava-zop-4/
LOCATION:Tehpro centar RS\, Lole Ribara 120\, Beograd\, 11250
CATEGORIES:Srpski
END:VEVENT
BEGIN:VEVENT
DTSTART;TZID=Europe/Belgrade:20250522T100000
DTEND;TZID=Europe/Belgrade:20250522T153000
DTSTAMP:20260421T210953
CREATED:20250422T193203Z
LAST-MODIFIED:20250423T124430Z
UID:13300-1747908000-1747927800@tehpro.rs
SUMMARY:SAVETOVANJE: MENTALNO ZDRAVLJE NA RADU-PREVENCIJA I PODRŠKA
DESCRIPTION:Tehpro – lider u bezbednosti i zdravlju na radu sada prvi na tržištu uvodi savetovanja posvećena mentalnom zdravlju! \nU današnjem dinamičnom poslovnom okruženju\, bezbednost na radu ne podrazumeva samo fizičku zaštitu zaposlenih – mentalno zdravlje postaje ključni faktor produktivnosti\, zadovoljstva i dugoročnog uspeha kompanija. Upravo zato\, Tehpro proširuje svoje delovanje i postavlja nove standarde u oblasti bezbednosti i zdravlja na radu kroz programe posvećene mentalnom zdravlju i dobrobiti zaposlenih. \nZašto je ovaj trening važan?\nProblemi poput stresa\, sagorevanja\, anksioznosti ili konfliktnih situacija direktno utiču na efikasnost timova\, povećavaju odsustvovanja sa rada i smanjuju angažovanost zaposlenih. Ovim programom\, organizacije dobijaju konkretne alate za prevenciju i podršku\, stvarajući radno okruženje koje neguje psihološku sigurnost i dobrobit zaposlenih. \nKljučne celine:\n✓ Razumevanje mentalnog zdravlja na radu – kako prepoznati prve znake problema i njihov uticaj na organizaciju\n✓ Značaj rane identifikacije problema – kako menadžeri i HR mogu da reaguju pre nego što dođe do sagorevanja\n✓ Strategije podrške i intervencije – alati i pristupi koji unapređuju mentalno zdravlje zaposlenih \nKoje benefite donosi trening?\n• Smanjenje apsentizma i fluktuacije uz proaktivne strategije prevencije\n• Poboljšanje komunikacije i odnosa u timovima kroz osnaživanje emocionalne inteligencije\n• Stvaranje podržavajuće organizacione kulture koja povećava angažovanost i produktivnost \nOčekivani ishodi:\n• Učesnici će naučiti kako da prepoznaju prve znake mentalnog stresa kod sebe i kolega\n• Razviće konkretne strategije za podršku mentalnom zdravlju u radnom okruženju\n• Dobijaće smernice za implementaciju inicijativa koje poboljšavaju psihološku sigurnost tima \nKome je trening namenjen?\n• HR menadžerima i stručnjacima za organizacioni razvoj\n• Menadžerima timova i liderima koji žele da unaprede dobrobit zaposlenih\n• Profesionalcima iz oblasti bezbednosti i zdravlja na radu\n• Svim zaposlenima koji žele da steknu veštine za bolje upravljanje stresom \nTrajanje: 1 trening dan\nLokacija: IN HOTEL\, Bulevar Arsenija Čarnojevića 56\, Novi Beograd 11070 \nNe dozvolite da mentalni stres ugrozi vaš tim – postavite temelje zdrave i produktivne organizacije! \nKlik na link da preuzmite agendu. \nKlik na link za prijavu \nZa više informacija\nDragana Rašić\n062/8081 483\nedukacija@tehpro.rs
URL:https://tehpro.rs/event/savetovanje-mentalno-zdravlje-na-radu-prevencija-i-podrska/
LOCATION:IN Hotel\, Bulevar Arsenija Čarnojevića 56\, Beograd\, Novi Beograd\, 11070
CATEGORIES:Srpski
END:VEVENT
END:VCALENDAR