BEGIN:VCALENDAR
VERSION:2.0
PRODID:-//Tehpro - ECPv6.15.20//NONSGML v1.0//EN
CALSCALE:GREGORIAN
METHOD:PUBLISH
X-WR-CALNAME:Tehpro
X-ORIGINAL-URL:https://tehpro.rs
X-WR-CALDESC:Events for Tehpro
REFRESH-INTERVAL;VALUE=DURATION:PT1H
X-Robots-Tag:noindex
X-PUBLISHED-TTL:PT1H
BEGIN:VTIMEZONE
TZID:Europe/Belgrade
BEGIN:DAYLIGHT
TZOFFSETFROM:+0100
TZOFFSETTO:+0200
TZNAME:CEST
DTSTART:20240331T010000
END:DAYLIGHT
BEGIN:STANDARD
TZOFFSETFROM:+0200
TZOFFSETTO:+0100
TZNAME:CET
DTSTART:20241027T010000
END:STANDARD
BEGIN:DAYLIGHT
TZOFFSETFROM:+0100
TZOFFSETTO:+0200
TZNAME:CEST
DTSTART:20250330T010000
END:DAYLIGHT
BEGIN:STANDARD
TZOFFSETFROM:+0200
TZOFFSETTO:+0100
TZNAME:CET
DTSTART:20251026T010000
END:STANDARD
BEGIN:DAYLIGHT
TZOFFSETFROM:+0100
TZOFFSETTO:+0200
TZNAME:CEST
DTSTART:20260329T010000
END:DAYLIGHT
BEGIN:STANDARD
TZOFFSETFROM:+0200
TZOFFSETTO:+0100
TZNAME:CET
DTSTART:20261025T010000
END:STANDARD
END:VTIMEZONE
BEGIN:VEVENT
DTSTART;TZID=Europe/Belgrade:20250602T080000
DTEND;TZID=Europe/Belgrade:20250606T160000
DTSTAMP:20260421T193043
CREATED:20250507T131200Z
LAST-MODIFIED:20250523T151809Z
UID:13322-1748851200-1749225600@tehpro.rs
SUMMARY:PRIPREMNA NASTAVA ZA POLAGANJE STRUČNOG ISPITA BZR
DESCRIPTION:Novi propisi – nov nastavni program \nKome je nastava namenjena?\n•	savetnicima i saradnicima za BZR;\n•	poslodavcima koji će sami obavljati poslove BZR i\n•	odgovornim licima za preglede\, provere i ispitivanja u oblasti BZR. \nZašto odabrati Tehpro?\n•	Više od 30 godina iskustva. Tehpro je lider u oblastima bezbednosti i zdravlja na radu\, zaštite od požara\, zaštite životne sredine i vanrednih situacija. \n•	Provereni rezultati. U 115 nastavnih grupa\, od 2006. godine\,  pripremili smo više od 3.000 polaznika. \n•	Verifikovani kvalitet. Od 2016. godine\, kao Javno priznati organizator obrazovanja odraslih\, radimo u skladu sa rešenjem Ministarstva prosvete\, pružajući edukaciju koja zadovoljava najviše standarde. \n•	Proverena metodologija. Naši predavači poseduju visok nivo andragoških kompetencija\, osiguravajući kvalitetnu i efektivnu pripremu. \nŠta nastava obuhvata?\n•	sadržaj predviđen novim Programom za polaganje stručnog ispita;\n•	sadržaj prilagođen specifičnostima ispita za savetnika i saradnika;\n•	izradu procene rizika za određeno radno mesto;\n•	mogućnost praćenja nastave onlajn\, preko aplikacije Microsoft Teams. \nNastavu izvodi stručni tim predavača sa dugogodišnjim iskustvom u praksi i edukaciji u oblasti BZR\, garantujući kvalitetno osposobljavanje\, visok nivo znanja za polaganje ispita i praktičnu primenu. \nKontakt osoba: Dragana Rašić\nE-mail: dragana.rasic@tehpro.rs\nTelefon: +381 62 8081 483
URL:https://tehpro.rs/event/pripremna-nastava-za-polaganje-strucnog-ispita-bzr/
LOCATION:Tehpro centar RS\, Lole Ribara 120\, Beograd\, 11250
CATEGORIES:Srpski
END:VEVENT
END:VCALENDAR