BEGIN:VCALENDAR
VERSION:2.0
PRODID:-//Tehpro - ECPv6.15.20//NONSGML v1.0//EN
CALSCALE:GREGORIAN
METHOD:PUBLISH
X-ORIGINAL-URL:https://tehpro.rs
X-WR-CALDESC:Events for Tehpro
REFRESH-INTERVAL;VALUE=DURATION:PT1H
X-Robots-Tag:noindex
X-PUBLISHED-TTL:PT1H
BEGIN:VTIMEZONE
TZID:Europe/Belgrade
BEGIN:DAYLIGHT
TZOFFSETFROM:+0100
TZOFFSETTO:+0200
TZNAME:CEST
DTSTART:20240331T010000
END:DAYLIGHT
BEGIN:STANDARD
TZOFFSETFROM:+0200
TZOFFSETTO:+0100
TZNAME:CET
DTSTART:20241027T010000
END:STANDARD
BEGIN:DAYLIGHT
TZOFFSETFROM:+0100
TZOFFSETTO:+0200
TZNAME:CEST
DTSTART:20250330T010000
END:DAYLIGHT
BEGIN:STANDARD
TZOFFSETFROM:+0200
TZOFFSETTO:+0100
TZNAME:CET
DTSTART:20251026T010000
END:STANDARD
BEGIN:DAYLIGHT
TZOFFSETFROM:+0100
TZOFFSETTO:+0200
TZNAME:CEST
DTSTART:20260329T010000
END:DAYLIGHT
BEGIN:STANDARD
TZOFFSETFROM:+0200
TZOFFSETTO:+0100
TZNAME:CET
DTSTART:20261025T010000
END:STANDARD
END:VTIMEZONE
BEGIN:VEVENT
DTSTART;TZID=Europe/Belgrade:20251002T100000
DTEND;TZID=Europe/Belgrade:20251002T143000
DTSTAMP:20260421T123906
CREATED:20250915T121035Z
LAST-MODIFIED:20250915T121824Z
UID:13393-1759399200-1759415400@tehpro.rs
SUMMARY:KLJUČNE ULOGE PUNOMOĆNIKA U PRAVNIM POSTUPCIMA BZR
DESCRIPTION:Tema: Uloga i značaj advokata i pravnih punomoćnika u upravnim\, parničnim\, prekršajnim i krivičnim postupcima iz oblasti BZR \nMožete se prijaviti na seminar preko sledećeg linka. Preuzmite agnedu ovde. \nO seminaru \nZašto učestvovati? \n• Praktične smernice za zastupanje u složenim BZR sporovima.\n• Produbljivanje znanja o pravima oštećenih i poslodavaca kroz aktuelne zakonske izmene.\n• Uvid u ključne dokaze i načine osporavanja veštačenja.\n• Konkretne studije slučaja iz prakse – od inspekcijskih do sudskih postupaka.\n• Mogućnost umrežavanja i razmene iskustava sa stručnjacima iz različitih sektora. \nSeminar je namenjen:\n• Advokatima specijalizovanim za zastupanje poslodavaca i oštećenih lica u svim BZR postupcima.\n• Punomoćnicima pravnih lica angažovanim na poslovima pravne zaštite u vezi sa BZR.\n• Osiguravajućim kućama i stručnjacima za procenu štete u slučajevima povreda na radu i profesionalnih oboljenja\, radi utvrđivanja doprinosa osiguranih lica koji je obuhvaćen osiguranjem.\n• Veštacima iz oblasti BZR čiji nalazi imaju značajnu ulogu u pravnim postupcima.\n• Licima iz oblasti BZR koja žele da razumeju pravne postupke u vezi sa povredama na radu i profesionalnim oboljenjima\, kako bi svoje aktivnosti uskladili sa važećim propisima i unapredili praksu. \nNaslovna tema pokriva: \n1. Prava oštećenih lica:\n• Prava zaposlenih\, angažovanih i drugih lica o čijem prisustvu je upoznat poslodavac\, na naknadu štete.\n• Da li je „nesrećni slučaj“ (povreda na radu)\, osnov za naknadu osigurane sume od osiguravajućeg društva usled povrede na radu i profesionalne bolesti?\n• Da li kolektivno osiguranje od „nesrećnog slučaja“ obuhvata i povrede na radu u okviru zaključenih polisa?\n• Primena principa objektivne odgovornosti poslodavca prilikom povrede na radu i naknade štete\, saglasno novim propisima. \n2. Prava poslodavaca i uloga advokata (punomoćnika):\n• Angažovanje advokata ili ovlašćenog predstavnika poslodavca u upravnim\, prekršajnim\, parničnim\, krivičnim postupcima.\n• Značaj dokaza veštačenja u postupcima pred nadležnim upravnim i sudskim organima.\n• Procesne i materijalne primedbe na sačinjena veštačenja u delu nalaza i mišljenja\, razlozi za pobijanje iznetih zaključaka. \n3. Pravni lekovi poslodavaca:\n• Uloga advokata (punomoćnika) u izjavljivanju pravnih lekova u upravnim\, prekršajnim\, parničnim\, krivičnim postupcima\, u oblasti bezbednosti i zdravlja na radu\, angažovanjem stručnog savetnika.\n• Pravo poslodavca da angažuje advokata (punomoćnika) u toku inspekcijskog nadzora\, a u cilju ostvarivanja zaštite i utvrđivanja stvarnog činjeničnog stanja – da li je poslodavac\, zakonski zastupnik uvek odgovoran.\n• Pravo i nužnost (zahtev za ponavljanje postupka\, zahtev za zaštitu zakonitosti) poslodavca da angažuje advokata (punomoćnika). \nKotizacija po učesniku: 20.000 RSD\n*Napomena: u cenu nije uračunat PDV \nPRIJAVA\n+381 62 8081 483 / dragana.rasic@tehpro.rs
URL:https://tehpro.rs/event/kljucne-uloge-punomocnika-u-pravnim-postupcima/
LOCATION:IN Hotel\, Bulevar Arsenija Čarnojevića 56\, Beograd\, Novi Beograd\, 11070
CATEGORIES:Srpski
END:VEVENT
BEGIN:VEVENT
DTSTART;TZID=Europe/Belgrade:20251016T080000
DTEND;TZID=Europe/Belgrade:20251017T170000
DTSTAMP:20260421T123906
CREATED:20250821T133621Z
LAST-MODIFIED:20250826T065013Z
UID:13354-1760601600-1760720400@tehpro.rs
SUMMARY:ZAJEDNO U PREVENCIJI BOLESTI I POVREDA NA RADU - JESENJI FORUM BZR 2025
DESCRIPTION:16 i 17. oktobar 2025. \nHotel Tonanti\, Vrnjačka Banja \nU vremenu sve većih zahteva za bezbedno i odgovorno poslovanje ubrzano menjaju\, Tehpro Vas poziva na dvodnevni stručni skup posvećen razmeni znanja\, praksi i strategija u oblasti bezbednosti i zdravlja na radu. \nČlan 53 Zakona o BZR jasno propisuje obavezu kontinuiranog usavršavanja – mi ga pretvaramo u priliku za razmenu iskustava\, praktična rešenja i jačanje profesionalne zajednice. \nTema foruma\nZajedno u prevenciji bolesti i povreda na radu: usklađenost u bezbednosti na radu – strategije i koristi \nŠta vas očekuje?\n– Stručna predavanja i prikaz najboljih primera iz prakse;\n– Panel diskusije sa različitim perspektivama iz BZR sistema;\n– Interaktivne radionice i digitalni alati za efikasnu primenu propisa;\n– Simulacije realnih situacija i studije slučaja iz domaćih firmi;\n– Poseban blok o mentalnom zdravlju i dobrobiti zaposlenih;\n– Pregled inovacija – od automatizacije administracije do AI alata za prevenciju povreda. \nZašto učestvovati?\n– Upoznajte nove modele i strategije u oblasti BZR usklađene sa evropskim direktivama;\n– Steknite konkretna i primenljiva rešenja kroz praksu;\n– Povežite zakonske\, operativne i psihološke aspekte zaštite na radu;\n– Umrežite se sa kolegama i razmenite iskustva;\n– Ostvarite individualne konsultacije sa ekspertima;\n– Dobijte potvrdu o stručnom usavršavanju. \nKotizacija\n30.000 RSD + PDV\nKotizacija uključuje učešće na forumu\, kafu u pauzama i svečanu večeru prvog dana.\nPrijavite se putem onlajn linka:  \nSmeštaj\nZa učesnike su obezbeđene povlašćene cene u hotelu Tonanti**** u Vrnjačkoj Banji.\nRezervacije: 066/0500-09 / prodaja@hoteltonanti.rs \nViše informacija i prijave:\nDragana Rašić\, 062/8081 483 / dragana.rasic@tehpro.rs
URL:https://tehpro.rs/event/zajedno-u-prevenciji-bolesti-i-povreda-na-radu-jesenji-forum-bzr-2025/
CATEGORIES:Srpski
END:VEVENT
BEGIN:VEVENT
DTSTART;TZID=Europe/Belgrade:20251016T080000
DTEND;TZID=Europe/Belgrade:20251017T170000
DTSTAMP:20260421T123906
CREATED:20250821T133924Z
LAST-MODIFIED:20250821T133944Z
UID:13357-1760601600-1760720400@tehpro.rs
SUMMARY:TOGETHER IN THE PREVENTION OF OCCUPATIONAL DISEASES AND INJURIES - AUTUMN OSH FORUM 2025
DESCRIPTION:Hotel Tonanti\, Vrnjačka Banja \nIn a time when the demands for safe and responsible business operations are rapidly evolving\, Tehpro invites you to a two-day professional gathering dedicated to sharing knowledge\, practices\, and strategies in the field of occupational safety and health. \nArticle 53 of the OSH Law clearly prescribes the obligation of continuous professional development – we turn this obligation into an opportunity for knowledge exchange\, practical solutions\, and strengthening of the professional community. \nThis is not just another forum – it is a place where expertise meets practical solutions\, and legislative guidelines are translated into concrete steps and tools. \nForum Theme\nTogether in the Prevention of Occupational Diseases and Injuries: Compliance in Occupational Safety – Strategies and Benefits \nWhat to Expect?\nExpert lectures and best practice presentations\nPanel discussions offering diverse perspectives within the OSH system\nInteractive workshops and digital tools for effective implementation of regulations\nReal-life simulations and case studies from domestic companies\nA dedicated session on mental health and employee well-being\nAn overview of innovations – from administrative automation to AI tools for injury prevention \nWhy Participate?\nLearn about new models and strategies in OSH aligned with European directives\nGain practical\, applicable solutions through hands-on sessions\nConnect legal\, operational\, and psychological aspects of workplace safety\nNetwork and exchange experiences with colleagues\nAccess individual consultations with experts\nReceive a certificate of professional development \nRegistration Fee\n30\,000 RSD + VAT\nThe fee includes participation in the forum\, coffee breaks\, and a gala dinner on the first day.\n👉Register online \nAccommodation\nPreferential rates are provided for participants at Hotel Tonanti** in Vrnjačka Banja.\nReservations: +381 66 0500 09 / prodaja@hoteltonanti.rs \nFor more information and registration:\nDragana Rašić / +381 62 8081 483 / dragana.rasic@tehpro.rs
URL:https://tehpro.rs/event/together-in-the-prevention-of-occupational-diseases-and-injuries-autumn-osh-forum-2025/
CATEGORIES:English
END:VEVENT
END:VCALENDAR